BEGIN:VCALENDAR
VERSION:2.0
PRODID:-//ChamberMaster//Event Calendar 2.0//EN
METHOD:PUBLISH
X-PUBLISHED-TTL:P3D
REFRESH-INTERVAL:P3D
CALSCALE:GREGORIAN
BEGIN:VEVENT
DTSTART:20200321T150000Z
DTEND:20200321T160000Z
X-MICROSOFT-CDO-ALLDAYEVENT:FALSE
SUMMARY:Rotator Cuff & Shoulder Pain Workshop
DESCRIPTION:Come to the Shoulder Pain Workshop and Learn:\n\n \n\n\n\n\n\n\nThe Single Worst Position to Sleep in that Causes BIG Problems in the Shoulder and Rotator Cuff...\n\nThe #1 Biggest Mistake People Suffering with Shoulder Pain Make Which Surprisingly Can Lead to Shoulder Surgery...\n\nThe Common Causes of Shoulder Pain Problems...\n\nThe Top Exercises for the Rotator Cuff & Shoulder...\n\nCall the Batavia Park District to register\, 630-879-5235 & use the Code 102047-1A\n\nLimited Number of Seats Available. $5 Registration Fee Required to Reserve Seat.
X-ALT-DESC;FMTTYPE=text/html:<div>\n<div>\n<div>Come&nbsp\;to&nbsp\;the&nbsp\;Shoulder Pain&nbsp\;Workshop&nbsp\;and&nbsp\;Learn:</div>\n\n<div>&nbsp\;</div>\n</div>\n</div>\n\n<div>\n<div>\n<div>\n<p>The&nbsp\;Single&nbsp\;Worst&nbsp\;Position&nbsp\;to&nbsp\;Sleep&nbsp\;in that&nbsp\;Causes&nbsp\;BIG&nbsp\;Problems&nbsp\;in&nbsp\;the&nbsp\;Shoulder&nbsp\;and Rotator Cuff...</p>\n\n<p>The&nbsp\;#1&nbsp\;Biggest&nbsp\;Mistake&nbsp\;People&nbsp\;Suffering&nbsp\;with&nbsp\;Shoulder&nbsp\;Pain&nbsp\;Make&nbsp\;Which&nbsp\;Surprisingly Can&nbsp\;Lead&nbsp\;to Shoulder&nbsp\;Surgery...</p>\n\n<p>The&nbsp\;Common&nbsp\;Causes&nbsp\;of&nbsp\;Shoulder Pain&nbsp\;Problems...</p>\n\n<p>The&nbsp\;Top&nbsp\;Exercises&nbsp\;for&nbsp\;the&nbsp\;Rotator&nbsp\;Cuff &amp\; Shoulder...</p>\n\n<p><em><strong>Call the Batavia Park District to register\, 630-879-5235 &amp\; use the Code 102047-1A</strong></em></p>\n\n<p><em><strong>Limited Number of Seats Available. $5 Registration Fee Required to Reserve Seat.</strong></em></p>\n</div>\n</div>\n</div>\n
LOCATION:Batavia Park District West Side Civic Center 327 West Wilson Street Batavia\, IL 60510
UID:e.1902.12044
SEQUENCE:3
DTSTAMP:20260422T231211Z
URL:https://business.bataviachamber.org/events/details/rotator-cuff-shoulder-pain-workshop-12044
END:VEVENT

END:VCALENDAR
