BEGIN:VCALENDAR
VERSION:2.0
PRODID:-//ChamberMaster//Event Calendar 2.0//EN
METHOD:PUBLISH
X-PUBLISHED-TTL:P3D
REFRESH-INTERVAL:P3D
CALSCALE:GREGORIAN
BEGIN:VEVENT
DTSTART:20080430T170000Z
DTEND:20080430T230000Z
X-MICROSOFT-CDO-ALLDAYEVENT:FALSE
SUMMARY:Rolling Down the River Expo 2008
DESCRIPTION:
X-ALT-DESC;FMTTYPE=text/html:
LOCATION:Pheasant Run Mega Center
UID:e.1902.1191
SEQUENCE:3
DTSTAMP:20260426T022116Z
URL:https://business.bataviachamber.org/events/details/rolling-down-the-river-expo-2008-04-30-2008-1191
END:VEVENT

END:VCALENDAR
