BEGIN:VCALENDAR
VERSION:2.0
PRODID:-//ChamberMaster//Event Calendar 2.0//EN
METHOD:PUBLISH
X-PUBLISHED-TTL:P3D
REFRESH-INTERVAL:P3D
CALSCALE:GREGORIAN
BEGIN:VEVENT
DTSTART:20100813T050000Z
DTEND:20100813T050000Z
X-MICROSOFT-CDO-ALLDAYEVENT:FALSE
SUMMARY:Rock Out! for DayOneNetwork Battle of the Bands
DESCRIPTION:Local bands\, of members aged 18 and under\, are invited to register to showcase their talent by August 7th with a $35 registration fee\, at www.hixbrosmusic.com.  Each band will play for approximately 15-20 minutes\, in hopes of ending the event at 10:00pm.  The winner of the\nbattle will receive studio time at a local recording studio. Admission to listen to the bands is $5.00 and food and refreshments will be served starting at 5:00.
X-ALT-DESC;FMTTYPE=text/html:Local bands\, of members aged 18 and under\, are invited to register to showcase their talent by August 7th with a $35 registration fee\, at www.hixbrosmusic.com.  Each band will play for approximately 15-20 minutes\, in hopes of ending the event at 10:00pm.  The winner of the\nbattle will receive studio time at a local recording studio. Admission to listen to the bands is $5.00 and food and refreshments will be served starting at 5:00.
LOCATION:Shannon Hall at Eastside Community Center
UID:e.1902.22
SEQUENCE:3
DTSTAMP:20260420T080344Z
URL:https://business.bataviachamber.org/events/details/rock-out-for-dayonenetwork-battle-of-the-bands-08-13-2010-22
END:VEVENT

END:VCALENDAR
