BEGIN:VCALENDAR
VERSION:2.0
PRODID:-//ChamberMaster//Event Calendar 2.0//EN
METHOD:PUBLISH
X-PUBLISHED-TTL:P3D
REFRESH-INTERVAL:P3D
CALSCALE:GREGORIAN
BEGIN:VEVENT
DTSTART:20100813T050000Z
DTEND:20100813T050000Z
X-MICROSOFT-CDO-ALLDAYEVENT:FALSE
SUMMARY:Rock Out! for DayOneNetwork
DESCRIPTION:RockOut! for DayOneNetwork\nPresented by\nBatavia Access Television and Hix Brothers Music\nCome one\, come all for a night of music to raise funds to support DayOneNetwork.\nAll bands\, age 18 and under\, are invited to RockOut!\nRegistration required.\nIf you love local musicians\, please join us for an evening of great music.\nFood will also be sold at the event to raise additional moneyfor DayOne.\nAll proceeds from this event will be donated to DayOneNetwork.\nIf you are interested in sponsoring the event or donating funds to this great cause\, please contact us!
X-ALT-DESC;FMTTYPE=text/html:RockOut! for DayOneNetwork\nPresented by\nBatavia Access Television and Hix Brothers Music\nCome one\, come all for a night of music to raise funds to support DayOneNetwork.\nAll bands\, age 18 and under\, are invited to RockOut!\nRegistration required.\nIf you love local musicians\, please join us for an evening of great music.\nFood will also be sold at the event to raise additional moneyfor DayOne.\nAll proceeds from this event will be donated to DayOneNetwork.\nIf you are interested in sponsoring the event or donating funds to this great cause\, please contact us!
LOCATION:Shannon Hall at Eastside Community Center
UID:e.1902.6
SEQUENCE:3
DTSTAMP:20260420T074047Z
URL:https://business.bataviachamber.org/events/details/rock-out-for-dayonenetwork-08-13-2010-6
END:VEVENT

END:VCALENDAR
