BEGIN:VCALENDAR
VERSION:2.0
PRODID:-//ChamberMaster//Event Calendar 2.0//EN
METHOD:PUBLISH
X-PUBLISHED-TTL:P3D
REFRESH-INTERVAL:P3D
CALSCALE:GREGORIAN
BEGIN:VEVENT
DTSTART:20090617T050000Z
DTEND:20090617T050000Z
X-MICROSOFT-CDO-ALLDAYEVENT:FALSE
SUMMARY:River Rhapsody Concert - Michael Heaton Band
DESCRIPTION:Experience the sounds of summer on the Riverwalk during the River Rhapsody Concert Series. Bring a lawn chair or blanket and jam to tunes by the Michael Heaton Band.
X-ALT-DESC;FMTTYPE=text/html:Experience the sounds of summer on the Riverwalk during the River Rhapsody Concert Series. Bring a lawn chair or blanket and jam to tunes by the Michael Heaton Band.
LOCATION:Batavia Riverwalk
UID:e.1902.906
SEQUENCE:3
DTSTAMP:20260421T090309Z
URL:https://business.bataviachamber.org/events/details/river-rhapsody-concert-michael-heaton-band-06-17-2009-906
END:VEVENT

END:VCALENDAR
