BEGIN:VCALENDAR
VERSION:2.0
PRODID:-//ChamberMaster//Event Calendar 2.0//EN
METHOD:PUBLISH
X-PUBLISHED-TTL:P3D
REFRESH-INTERVAL:P3D
CALSCALE:GREGORIAN
BEGIN:VEVENT
DTSTART:20090624T050000Z
DTEND:20090624T050000Z
X-MICROSOFT-CDO-ALLDAYEVENT:FALSE
SUMMARY:River Rhapsody Concert - Geneva Jazz Ensemble
DESCRIPTION:Experience the sounds of summer on the Riverwalk during the River Rhapsody Concert Series. Bring a lawn chair or blanket and enjoy tunes by the Geneva Jazz Ensemble.
X-ALT-DESC;FMTTYPE=text/html:Experience the sounds of summer on the Riverwalk during the River Rhapsody Concert Series. Bring a lawn chair or blanket and enjoy tunes by the Geneva Jazz Ensemble.
LOCATION:Batavia Riverwalk
UID:e.1902.907
SEQUENCE:3
DTSTAMP:20260421T090309Z
URL:https://business.bataviachamber.org/events/details/river-rhapsody-concert-geneva-jazz-ensemble-06-24-2009-907
END:VEVENT

END:VCALENDAR
