BEGIN:VCALENDAR
VERSION:2.0
PRODID:-//ChamberMaster//Event Calendar 2.0//EN
METHOD:PUBLISH
X-PUBLISHED-TTL:P3D
REFRESH-INTERVAL:P3D
CALSCALE:GREGORIAN
BEGIN:VEVENT
DTSTART:20090805T050000Z
DTEND:20090805T050000Z
X-MICROSOFT-CDO-ALLDAYEVENT:FALSE
SUMMARY:River Rhapsody Concert - Gallery
DESCRIPTION:Experience the sounds of summer on the Riverwalk during the River Rhapsody Concert Series. Bring a lawn chair or blanket and enjoy tunes by Gallery.
X-ALT-DESC;FMTTYPE=text/html:Experience the sounds of summer on the Riverwalk during the River Rhapsody Concert Series. Bring a lawn chair or blanket and enjoy tunes by Gallery.
LOCATION:Batavia Riverwalk
UID:e.1902.908
SEQUENCE:3
DTSTAMP:20260421T062843Z
URL:https://business.bataviachamber.org/events/details/river-rhapsody-concert-gallery-08-05-2009-908
END:VEVENT

END:VCALENDAR
