BEGIN:VCALENDAR
VERSION:2.0
PRODID:-//ChamberMaster//Event Calendar 2.0//EN
METHOD:PUBLISH
X-PUBLISHED-TTL:P3D
REFRESH-INTERVAL:P3D
CALSCALE:GREGORIAN
BEGIN:VEVENT
DTSTART:20220120T223000Z
DTEND:20220120T230000Z
X-MICROSOFT-CDO-ALLDAYEVENT:FALSE
SUMMARY:Ribbon Cutting Ceremony: Rookies All-American Pub & Grill
DESCRIPTION:Join us to celebrate new Batavia Chamber of member Rookies All-American Pub & Grill with a multi-chamber ribbon cutting!\n\n\n\nThe Geneva location\, is now open in the Fox Valley Ice arena for delicious food and drinks. Stop by to help cut the ribbon and check out it out!\n\n\n\nMasks are required per CDC and State of Illinois guidelines.
X-ALT-DESC;FMTTYPE=text/html:Join us to celebrate new Batavia Chamber of member Rookies All-American Pub &amp\; Grill with a multi-chamber ribbon cutting!<br />\n<br />\nThe Geneva location\, is now open in the Fox Valley Ice arena for delicious food and drinks. Stop by to help cut the ribbon and check out it out!<br />\n<br />\nMasks are required per CDC and State of Illinois guidelines.&nbsp\; &nbsp\;
LOCATION:Fox Valley Ice Arena 1996 S. Kirk Road Geneva\, IL 60134
UID:e.1902.15018
SEQUENCE:3
DTSTAMP:20260420T220218Z
URL:https://business.bataviachamber.org/events/details/ribbon-cutting-ceremony-rookies-all-american-pub-grill-15018
END:VEVENT

END:VCALENDAR
