BEGIN:VCALENDAR
VERSION:2.0
PRODID:-//ChamberMaster//Event Calendar 2.0//EN
METHOD:PUBLISH
X-PUBLISHED-TTL:P3D
REFRESH-INTERVAL:P3D
CALSCALE:GREGORIAN
BEGIN:VEVENT
DTSTART:20200110T180000Z
DTEND:20200208T230000Z
X-MICROSOFT-CDO-ALLDAYEVENT:FALSE
SUMMARY:Resident Artists & Instructors Show at Water Street Studios
DESCRIPTION:Water Street Studios Kicks Off 2020 with a Resident Artist + Instructor Show\n\n \n\nBatavia\, IL - Water Street Studios is celebrating the new year with our community of Resident Artists and instructors. January 2020 marks the beginning of new art classes\, new Resident Artists\, a new website\, and more!\n\n \n\nDon't miss out on this unique experience to view and celebrate all of Water Street Studios representative talent - a vast quantity of work in a single exhibit that spans both the first floor Dempsey Family Gallery and second floor Chicago Capital Gallery.\n\n\n\nView a curated selection of recent artwork by Water Street Studios' Resident Artists and Instructors. The exhibition will feature work from over 30 local artists and artisans working in a wide variety of media\, scale\, and disciplines. Join us during the Gallery Opening Reception and meet the artists\, enjoy a cash bar\, view open artist studios\, and enjoy art activities.\n\n\n\nOpening reception will be held Friday\, January 10\, 2020 from 6:00-9:00 p.m. The artists will be present at the reception. In addition\, a cash bar will be available featuring beer from Solemn Oath Brewery and wine selections from The Wine Exchange in St. Charles. This event is free and open to all ages. We encourage all visitors to make a $5 donation at the door to support arts programming at Water Street Studios. A special thank you to our event sponsors: Chicago Capital LLC\, Batavia Enterprises Inc.\, First National Bank\, and K.Hollis Jewelers.\n\n\n\nBoth gallery exhibits will continue to be on display until Saturday\, February 8\, 2020 at 5pm. The exhibits in both galleries can be visited during regular public gallery hours: Thursday-Sunday from 12:00-5:00 pm at 160 S. Water Street in Batavia\, Illinois.
X-ALT-DESC;FMTTYPE=text/html:<span style="font-size:14px\;"><span style="font-family:arial\;"><strong>Water Street Studios Kicks Off 2020 with a Resident Artist + Instructor Show</strong><br />\n&nbsp\;<br />\nBatavia\, IL - Water Street Studios is celebrating the new year with our community of Resident Artists and instructors. January 2020 marks the beginning of new art classes\, new Resident Artists\, a new website\, and more!<br />\n&nbsp\;<br />\nDon&#39\;t miss out on this unique experience to view and celebrate all of Water Street Studios representative talent - a vast quantity of work in a single exhibit that spans both the first floor Dempsey Family Gallery and second floor Chicago Capital Gallery.<br />\n<br />\nView a curated selection of recent artwork by Water Street Studios&#39\; Resident Artists and Instructors. The exhibition will feature work from over 30 local artists and artisans working in a wide variety of media\, scale\, and disciplines. Join us during the Gallery Opening Reception and meet the artists\, enjoy a cash bar\, view open artist studios\, and enjoy art activities.<br />\n<br />\nOpening reception will be held Friday\, January 10\, 2020 from 6:00-9:00 p.m. The artists will be present at the reception. In addition\, a cash bar will be available featuring beer from&nbsp\;Solemn Oath Brewery and wine selections from The Wine Exchange in St. Charles. This event is free and open to all ages. We encourage all visitors to make a $5 donation at the door to support arts programming at&nbsp\;Water Street Studios. A special thank you to our event sponsors: Chicago Capital LLC\, Batavia Enterprises Inc.\, First National Bank\, and K.Hollis Jewelers.<br />\n<br />\nBoth gallery exhibits will continue to be on display until Saturday\, February 8\, 2020 at 5pm.&nbsp\;The exhibits in both galleries can be visited during regular public gallery hours: Thursday-Sunday from 12:00-5:00 pm at 160 S. Water Street in Batavia\, Illinois.</span></span>
LOCATION:Water Street Studios 160 S. Water Street Batavia\, Illinois 60510
UID:e.1902.11281
SEQUENCE:3
DTSTAMP:20260422T233007Z
URL:https://business.bataviachamber.org/events/details/resident-artists-instructors-show-at-water-street-studios-11281
END:VEVENT

END:VCALENDAR
