BEGIN:VCALENDAR
VERSION:2.0
PRODID:-//ChamberMaster//Event Calendar 2.0//EN
METHOD:PUBLISH
X-PUBLISHED-TTL:P3D
REFRESH-INTERVAL:P3D
CALSCALE:GREGORIAN
BEGIN:VEVENT
DTSTART:20101007T050000Z
DTEND:20101007T050000Z
X-MICROSOFT-CDO-ALLDAYEVENT:FALSE
SUMMARY:Reception to Honor Representative Mike Fortner
DESCRIPTION:$60 per person\n\n$250 Fresh Sponsor \n$500 Sharp Sponsor\n$1000 Refined Sponsor\n(*Precinct Committeemen are $35)\n\nHors d’oeuvres and Soda will be hosted.\n\nPlease make check payable to:\n“Friends For Mike Fortner"\n\nKindly RSVP by Monday\, October 4th via this Evite or via Email to Amy Koltz amykoltz@sbcglobal.net
X-ALT-DESC;FMTTYPE=text/html:$60 per person\n\n$250 Fresh Sponsor \n$500 Sharp Sponsor\n$1000 Refined Sponsor\n(*Precinct Committeemen are $35)\n\nHors d’oeuvres and Soda will be hosted.\n\nPlease make check payable to:\n“Friends For Mike Fortner"\n\nKindly RSVP by Monday\, October 4th via this Evite or via Email to Amy Koltz amykoltz@sbcglobal.net\n
LOCATION:The Bank Restaraunt
UID:e.1902.74
SEQUENCE:3
DTSTAMP:20260420T060605Z
URL:https://business.bataviachamber.org/events/details/reception-to-honor-representative-mike-fortner-10-07-2010-74
END:VEVENT

END:VCALENDAR
