BEGIN:VCALENDAR
VERSION:2.0
PRODID:-//ChamberMaster//Event Calendar 2.0//EN
METHOD:PUBLISH
X-PUBLISHED-TTL:P3D
REFRESH-INTERVAL:P3D
CALSCALE:GREGORIAN
BEGIN:VEVENT
DTSTART:20110217T060000Z
DTEND:20110217T060000Z
X-MICROSOFT-CDO-ALLDAYEVENT:FALSE
SUMMARY:Rasmussen College Career and Networking Fair
DESCRIPTION:Attend the Rasmussen College Career and Networking Fair and make yourself a more competitive contender in the job market. Network and apply for jobs within a variety of industries\, and learn about educational options that will give you an advantage over the competition.\n\nVendor space is still available to employers that are looking to hire. For more information\, contact Myra Morales
X-ALT-DESC;FMTTYPE=text/html:Attend the Rasmussen College Career and Networking Fair and make yourself a more competitive contender in the job market. Network and apply for jobs within a variety of industries\, and learn about educational options that will give you an advantage over the competition.\n\nVendor space is still available to employers that are looking to hire. For more information\, contact Myra Morales
LOCATION:Rasmussen College
UID:e.1902.158
SEQUENCE:3
DTSTAMP:20260419T224458Z
URL:https://business.bataviachamber.org/events/details/rasmussen-college-career-and-networking-fair-02-17-2011-158
END:VEVENT

END:VCALENDAR
