BEGIN:VCALENDAR
VERSION:2.0
PRODID:-//ChamberMaster//Event Calendar 2.0//EN
METHOD:PUBLISH
X-PUBLISHED-TTL:P3D
REFRESH-INTERVAL:P3D
CALSCALE:GREGORIAN
BEGIN:VEVENT
DTSTART:20091110T160000Z
DTEND:20091111T050000Z
X-MICROSOFT-CDO-ALLDAYEVENT:FALSE
SUMMARY:R Kids Closet Ribbon Cutting
DESCRIPTION:Batavia has a new consignment shop for children’s clothes—R Kids Closet! Join us as we welcome them to Batavia. Mayor Schielke will cut their ribbon at 10:00 a.m.
X-ALT-DESC;FMTTYPE=text/html:<P class=MsoNormal style="MARGIN: 0in 0in 0pt\; TEXT-ALIGN: center" align=left>Batavia has a new consignment shop for children’s clothes—R Kids Closet! Join us as we welcome them to <?xml:namespace prefix = st1 ns = "urn:schemas-microsoft-com:office:smarttags" /><st1:City w:st="on"><st1:place w:st="on">Batavia</st1:place></st1:City>. Mayor Schielke will cut their ribbon at 10:00 a.m.</P>
LOCATION:R Kids Closet
UID:e.1902.1734
SEQUENCE:3
DTSTAMP:20260420T232127Z
URL:https://business.bataviachamber.org/events/details/r-kids-closet-ribbon-cutting-11-10-2009-1734
END:VEVENT

END:VCALENDAR
