BEGIN:VCALENDAR
VERSION:2.0
PRODID:-//ChamberMaster//Event Calendar 2.0//EN
METHOD:PUBLISH
X-PUBLISHED-TTL:P3D
REFRESH-INTERVAL:P3D
CALSCALE:GREGORIAN
BEGIN:VEVENT
DTSTART:20110309T140000Z
DTEND:20110309T153000Z
X-MICROSOFT-CDO-ALLDAYEVENT:FALSE
SUMMARY:Quarterly New Member Breakfast
DESCRIPTION:Every quarter\, we invite our newest Chamber members to come and learn what the Chamber has to offer. Join us for an orientation and breakfast. Current members are encouraged to come and welcome our new members. We gather at Enticing Cuisine\, 12 S. Water Street. (RSVP)
X-ALT-DESC;FMTTYPE=text/html:<P align=left><FONT face=Arial color=#0000ff size=4>Every quarter\, we invite our newest Chamber members to come and learn what the Chamber has to offer. Join us for an orientation and breakfast. Current members are encouraged to come and welcome our new members. We gather at Enticing Cuisine\, 12 S. Water Street. (RSVP)</FONT></P>
LOCATION:Enticing Cuisine
UID:e.1902.1680
SEQUENCE:3
DTSTAMP:20260423T152414Z
URL:https://business.bataviachamber.org/events/details/quarterly-new-member-breakfast-03-09-2011-1680
END:VEVENT

END:VCALENDAR
