BEGIN:VCALENDAR
VERSION:2.0
PRODID:-//ChamberMaster//Event Calendar 2.0//EN
METHOD:PUBLISH
X-PUBLISHED-TTL:P3D
REFRESH-INTERVAL:P3D
CALSCALE:GREGORIAN
BEGIN:VEVENT
DTSTART:20081030T223000Z
DTEND:20081031T013000Z
X-MICROSOFT-CDO-ALLDAYEVENT:FALSE
SUMMARY:Provena Mercy Women’s Networking Event and Fashion Show
DESCRIPTION:Women’s Networking Event and Fashion Show benefiting the Provena Mercy Medical Center Nursing Scholarship Endowment FundThe Provena Mercy Medical Center Auxiliary is hosting their annual fashion show on October 30th.  Join other empowered women in the area for an evening of fun\, fashion\, and fellowship at the Hotel Arista\, a new luxury hotel in Naperville.  The Women’s Networking Event and Fashion Show celebrates the power and diversity within each of us to look our best\, and feel great knowing expertise in women’s healthcare is nearby at Provena Mercy Medical Center in Aurora\, Illinois.   We are so pleased to welcome BRAVO TV’s Season 4 Project Runway Contestant Steven Rosengard!  This wildly popular reality show has taken the nation by storm! Steven will share his ideas on how empowered women can look their best.$55.00 per personIncludes:  Hors d’oeuvres and cash bar Shopping exclusive boutiques that include jewelry and other specialty items Raffle prizes\, including a $150 gift basket from Sephora Fall Fashion show\, and cruise and resort wear by Von Maur Department Stores and Carson’s Exclusive Fur Collection Makeup trends by Lori Neapoloitan\, international makeup artist and creator of HALO the Ultimate Makeup and Skincare Line.
X-ALT-DESC;FMTTYPE=text/html:<FONT face=Arial size=3><SPAN style="FONT-SIZE: 12pt\; FONT-FAMILY: Arial"><P class=MsoNormal style="FONT-FAMILY: Arial" align=left><FONT face=Arial size=3><SPAN style="FONT-SIZE: 12pt\; FONT-FAMILY: Arial">Women’s Networking Event and Fashion Show benefiting the Provena Mercy Medical Center Nursing Scholarship Endowment Fund</SPAN></FONT></P><P class=MsoNormal style="FONT-FAMILY: Arial" align=left>The Provena Mercy Medical Center Auxiliary is hosting their annual fashion show on October 30th</SUP>.&nbsp\; Join other empowered women in the area for an evening of fun\, fashion\, and fellowship at the Hotel Arista\, a new luxury hotel in Naperville.&nbsp\; The Women’s Networking Event and Fashion Show celebrates the power and diversity within each of us to look our best\, <U>and</U> feel great knowing expertise in women’s healthcare is nearby at Provena Mercy Medical Center in Aurora\, Illinois.&nbsp\; </SPAN></FONT></P><P class=MsoNormal style="FONT-FAMILY: Arial" align=left><FONT face=Arial size=3><SPAN style="FONT-SIZE: 12pt\; FONT-FAMILY: Arial">&nbsp\;We are so pleased to welcome <B><SPAN style="FONT-WEIGHT: bold">BRAVO TV’s Season 4 Project Runway Contestant Steven Rosengard</SPAN></B>!&nbsp\; This wildly popular reality show has taken the nation by storm! Steven will share his ideas on how empowered women can look their best.</SPAN></FONT></P><P class=MsoNormal style="FONT-FAMILY: Arial" align=left><FONT face=Arial size=3><SPAN style="FONT-SIZE: 12pt\; FONT-FAMILY: Arial">$55.00 per person</SPAN></FONT></P><P class=MsoNormal style="FONT-FAMILY: Arial" align=left><FONT face=Arial size=3><SPAN style="FONT-SIZE: 12pt\; FONT-FAMILY: Arial">Includes:&nbsp\; </SPAN></FONT></P><DIV style="FONT-FAMILY: Arial" align=left><UL style="MARGIN-TOP: 0in"><LI class=MsoNormal style="mso-list: l0 level1 lfo1"><FONT face=Arial size=3><SPAN style="FONT-SIZE: 12pt\; FONT-FAMILY: Arial">Hors d’oeuvres and cash bar</SPAN></FONT> <FONT face=Arial><SPAN style="FONT-FAMILY: Arial"></SPAN></FONT><LI class=MsoNormal style="mso-list: l0 level1 lfo1"><FONT face=Arial size=3><SPAN style="FONT-SIZE: 12pt\; FONT-FAMILY: Arial">Shopping exclusive boutiques that include jewelry and other specialty items</SPAN></FONT> <FONT face=Arial><SPAN style="FONT-FAMILY: Arial"></SPAN></FONT><LI class=MsoNormal style="mso-list: l0 level1 lfo1"><FONT face=Arial size=3><SPAN style="FONT-SIZE: 12pt\; FONT-FAMILY: Arial">Raffle prizes\, including a $150 gift basket from Sephora</SPAN></FONT> <FONT face=Arial><SPAN style="FONT-FAMILY: Arial"></SPAN></FONT><LI class=MsoNormal style="mso-list: l0 level1 lfo1"><FONT face=Arial size=3><SPAN style="FONT-SIZE: 12pt\; FONT-FAMILY: Arial">Fall Fashion show\, and cruise and resort wear by Von Maur Department Stores and Carson’s Exclusive Fur Collection</SPAN></FONT> <FONT face=Arial><SPAN style="FONT-FAMILY: Arial"></SPAN></FONT><LI class=MsoNormal style="mso-list: l0 level1 lfo1"><FONT face=Arial size=3><SPAN style="FONT-SIZE: 12pt\; FONT-FAMILY: Arial">Makeup trends by Lori Neapoloitan\, international makeup artist and creator of HALO the Ultimate Makeup and Skincare Line.&nbsp\; </SPAN></FONT></LI></UL></DIV>
LOCATION:The new Hotel Arista
UID:e.1902.1600
SEQUENCE:3
DTSTAMP:20260421T230907Z
URL:https://business.bataviachamber.org/events/details/provena-mercy-women-s-networking-event-and-fashion-show-10-30-2008-1600
END:VEVENT

END:VCALENDAR
