BEGIN:VCALENDAR
VERSION:2.0
PRODID:-//ChamberMaster//Event Calendar 2.0//EN
METHOD:PUBLISH
X-PUBLISHED-TTL:P3D
REFRESH-INTERVAL:P3D
CALSCALE:GREGORIAN
BEGIN:VEVENT
DTSTART:20231103T230000Z
DTEND:20231104T020000Z
X-MICROSOFT-CDO-ALLDAYEVENT:FALSE
SUMMARY:Prisoner Wine Tasting and Food Pairing
DESCRIPTION:Where are our wine lovers? We have the perfect event for you!\n\nGrab your fellow wine lovers and join us at Prairie Landing Golf Course on Friday\, November 3rd at 6:00 PM to sample 9 delicious Prisoner wines that will be paired with savory bites.\n\nContact Michelle at 630.208.7629 or Mwright@prairielanding.com before 11.1.2023 to reserve your spot.\n\nThis event is $95 per person (all inclusive).
X-ALT-DESC;FMTTYPE=text/html:<p><span style="font-size:14px"><span style="font-family:arial\,helvetica\,sans-serif"><span style="color:#141827">Where are our wine lovers? We have the perfect event for you!</span></span></span></p>\n\n<p><span style="font-size:14px"><span style="font-family:arial\,helvetica\,sans-serif"><span style="color:#141827">Grab your fellow wine lovers and join us at Prairie Landing Golf Course on Friday\, November 3rd at 6:00 PM to sample 9 delicious Prisoner wines that will be paired with savory bites.</span></span></span></p>\n\n<p><span style="font-size:14px"><span style="font-family:arial\,helvetica\,sans-serif"><span style="color:#141827">Contact Michelle at 630.208.7629 or <a href="mailto:mwright@prairielanding.com">Mwright@prairielanding.com</a>&nbsp\;before 11.1.2023 to reserve your spot.</span><br />\n<span style="color:#141827">This event is $95 per person (all inclusive).</span></span></span></p>\n
LOCATION:Prairie Landing Golf Club 2325 Longest Drive\, West Chicago\, IL 60185
UID:e.1902.21034
SEQUENCE:3
DTSTAMP:20260419T184000Z
URL:https://business.bataviachamber.org/events/details/prisoner-wine-tasting-and-food-pairing-21034
END:VEVENT

END:VCALENDAR
