BEGIN:VCALENDAR
VERSION:2.0
PRODID:-//ChamberMaster//Event Calendar 2.0//EN
METHOD:PUBLISH
X-PUBLISHED-TTL:P3D
REFRESH-INTERVAL:P3D
CALSCALE:GREGORIAN
BEGIN:VEVENT
DTSTART:20090620T050000Z
DTEND:20090620T050000Z
X-MICROSOFT-CDO-ALLDAYEVENT:FALSE
SUMMARY:Primroses to Prairie Garden Walk
DESCRIPTION:Imagine stately gardens surrounding an 1850’s Prairie Italianate home that once hid escaping slaves in the Underground Railroad\, then picture a lush garden transformed from a former limestone quarry overlooking the Fox River. These fascinating gardens and many more are open for exploring during the“Primroses to Prairie” Garden Walk sponsored by the Batavia Plain Dirt Gardeners Club on June 20th\, from 10 am to 4 pm. Advance tickets costing $12.50 are available at the Batavia Park District\, 327W. Wilson and various area businesses. The day of the walk\, tickets may be purchased for $15.00 at the historic Government Center\, 100 N. Island Avenue in Batavia. Also come enjoy tea at the Government Center\, browse the garden arts and crafts offered for sale and take a walk through the Wildflower Sanctuary along the Batavia Riverwalk. Email melissa.hyams@att.net or call 630-879-9638 with questions.
X-ALT-DESC;FMTTYPE=text/html:<P align=left>Imagine stately gardens surrounding an 1850’s Prairie Italianate home that once hid escaping slaves in the Underground Railroad\, then picture a lush garden transformed from a former limestone quarry overlooking the Fox River. These fascinating gardens and many more are open for exploring during the“Primroses to Prairie” Garden Walk sponsored by the Batavia Plain Dirt Gardeners Club on June 20th\, from 10 am to 4 pm. Advance tickets costing $12.50 are available at the Batavia Park District\, 327W. Wilson and various area businesses. The day of the walk\, tickets may be purchased for $15.00 at the historic Government Center\, 100 N. Island Avenue in Batavia. Also come enjoy tea at the Government Center\, browse the garden arts and crafts offered for sale and take a walk through the Wildflower Sanctuary along the Batavia Riverwalk. Email melissa.hyams@att.net or call 630-879-9638 with questions.</P>
LOCATION:
UID:e.1902.891
SEQUENCE:3
DTSTAMP:20260421T090547Z
URL:https://business.bataviachamber.org/events/details/primroses-to-prairie-garden-walk-06-20-2009-891
END:VEVENT

END:VCALENDAR
