BEGIN:VCALENDAR
VERSION:2.0
PRODID:-//ChamberMaster//Event Calendar 2.0//EN
METHOD:PUBLISH
X-PUBLISHED-TTL:P3D
REFRESH-INTERVAL:P3D
CALSCALE:GREGORIAN
BEGIN:VEVENT
DTSTART:20200226T003000Z
DTEND:20200226T020000Z
X-MICROSOFT-CDO-ALLDAYEVENT:FALSE
SUMMARY:Pregnancy and Back Pain - An Evening with Carrie Koziol
DESCRIPTION:An evening With Carrie Koziol!!\n\n\n\nAre you currently pregnant and experiencing back pain\, having difficulty breathing\, or just feeling every day activities are now a chore?\n\n\n\nCome out for an interactive evening with Pregnancy & Exercise Specialist Carrie Koziol!\n\n\n\nLeave this workshop with valuable nuggets of information that you can use right away:\n\n\n\n1. Learn what is the role of "your core" during pregnancy\n\n\n\n2. Why your SI Joint loves symmetry\n\n\n\n3. What are some common postural pitfalls\n\n\n\n4. Learn how to breathe correctly and efficiently\n\n\n\nPlease click on the link below to register for this fantastic event. If you have any questions about the material to be presented or want to touch base with Carrie prior to the event\, please email her at carriekoziol@gmail.com. Any questions about the registration process\, please call the clinic at 630-892-8003.\n\n\n\nGrab a friend or two and come learn from one of the best women's health specialists and trainers in the western suburbs!!\n\n\n\nhttps://www.ptadvantagepc.com/Pregancy-and-Back-Pain-Workshop-Registration
X-ALT-DESC;FMTTYPE=text/html:<span style="background-color:rgb(255\, 255\, 255)\; color:rgb(29\, 33\, 41)\; font-family:helvetica\,arial\,sans-serif\; font-size:14px">An evening With Carrie Koziol!!</span><br />\n<br />\n<span style="background-color:rgb(255\, 255\, 255)\; color:rgb(29\, 33\, 41)\; font-family:helvetica\,arial\,sans-serif\; font-size:14px">Are you currently pregnant and experiencing back pain\, having difficulty breathing\, or just feeling every day activities are now a chore?</span><br />\n<br />\n<span style="background-color:rgb(255\, 255\, 255)\; color:rgb(29\, 33\, 41)\; font-family:helvetica\,arial\,sans-serif\; font-size:14px">Come out for an interactive evening with Pregnancy &amp\; Exercise Specialist Carrie Koziol!</span><br />\n<br />\n<span style="background-color:rgb(255\, 255\, 255)\; color:rgb(29\, 33\, 41)\; font-family:helvetica\,arial\,sans-serif\; font-size:14px">Leave this workshop with valuable nuggets of information that you can use right away:</span><br />\n<br />\n<span style="background-color:rgb(255\, 255\, 255)\; color:rgb(29\, 33\, 41)\; font-family:helvetica\,arial\,sans-serif\; font-size:14px">1. Learn what is the role of &quot\;your core&quot\; during pregnancy</span><br />\n<br />\n<span style="background-color:rgb(255\, 255\, 255)\; color:rgb(29\, 33\, 41)\; font-family:helvetica\,arial\,sans-serif\; font-size:14px">2. Why your SI Joint loves symmetry</span><br />\n<br />\n<span style="background-color:rgb(255\, 255\, 255)\; color:rgb(29\, 33\, 41)\; font-family:helvetica\,arial\,sans-serif\; font-size:14px">3. What are some common postural pitfalls</span><br />\n<br />\n<span style="background-color:rgb(255\, 255\, 255)\; color:rgb(29\, 33\, 41)\; font-family:helvetica\,arial\,sans-serif\; font-size:14px">4. Learn how to breathe correctly and efficiently</span><br />\n<br />\n<span style="background-color:rgb(255\, 255\, 255)\; color:rgb(29\, 33\, 41)\; font-family:helvetica\,arial\,sans-serif\; font-size:14px">Please click on the link below to register for this fantastic event. If you have any questions about the material to be presented or want to touch base with Carrie prior to the event\, please email her at carriekoziol@gmail.com. Any questions about the registration process\, please call the clinic at 630-892-8003.</span><br />\n<br />\n<span style="background-color:rgb(255\, 255\, 255)\; color:rgb(29\, 33\, 41)\; font-family:helvetica\,arial\,sans-serif\; font-size:14px">Grab a friend or two and come learn from one of the best women&#39\;s health specialists and trainers in the western suburbs!!</span><br />\n<br />\n<a href="https://l.facebook.com/l.php?u=https%3A%2F%2Fwww.ptadvantagepc.com%2FPregancy-and-Back-Pain-Workshop-Registration%3Ffbclid%3DIwAR3Mt440JteQW7rpO-VW1LjCAFlqmRci3A8JImErML_dpE9IbLkHPomUahY&amp\;h=AT3gwpU9qwUlMgLfXb3BQGH2cg3wARd-qnUIKhSuFUXWFew8VssR2mK6-RD1XjxcejBxTd6LfWRzKbHOCGJovaUjWn6_mIHS--NxqB_cD7JVjA5ejJwFfzRvau8RoZkUww" rel="nofollow noopener" style="color: rgb(56\, 88\, 152)\; cursor: pointer\; text-decoration-line: none\; font-family: Helvetica\, Arial\, sans-serif\; font-size: 14px\; white-space: pre-wrap\; background-color: rgb(255\, 255\, 255)\;" target="_blank">https://www.ptadvantagepc.com/Pregancy-and-Back-Pain-Workshop-Registration</a>
LOCATION:Physical Therapy Advantage 35 South Randall Road North Aurora\, IL 60542
UID:e.1902.12043
SEQUENCE:3
DTSTAMP:20260423T010211Z
URL:https://business.bataviachamber.org/events/details/pregnancy-and-back-pain-an-evening-with-carrie-koziol-12043
END:VEVENT

END:VCALENDAR
