BEGIN:VCALENDAR
VERSION:2.0
PRODID:-//ChamberMaster//Event Calendar 2.0//EN
METHOD:PUBLISH
X-PUBLISHED-TTL:P3D
REFRESH-INTERVAL:P3D
CALSCALE:GREGORIAN
BEGIN:VEVENT
DTSTART:20110202T060000Z
DTEND:20110202T060000Z
X-MICROSOFT-CDO-ALLDAYEVENT:FALSE
SUMMARY:Pre-Superbowl Party - CANCELLED DUE TO WEATHER
DESCRIPTION:You are cordially invited to attend a Business Networking Pre-Super Bowl event.  Guests will enjoy "game day" snacks and watch the Chcicago Bears 25th Anniversary Super Bowl Championship while networking with other professionals!
X-ALT-DESC;FMTTYPE=text/html:You are cordially invited to attend a Business Networking Pre-Super Bowl event.  Guests will enjoy "game day" snacks and watch the Chcicago Bears 25th Anniversary Super Bowl Championship while networking with other professionals!
LOCATION:Alden of Waterford
UID:e.1902.121
SEQUENCE:3
DTSTAMP:20260419T212436Z
URL:https://business.bataviachamber.org/events/details/pre-superbowl-party-cancelled-due-to-weather-02-02-2011-121
END:VEVENT

END:VCALENDAR
