BEGIN:VCALENDAR
VERSION:2.0
PRODID:-//ChamberMaster//Event Calendar 2.0//EN
METHOD:PUBLISH
X-PUBLISHED-TTL:P3D
REFRESH-INTERVAL:P3D
CALSCALE:GREGORIAN
BEGIN:VEVENT
DTSTART:20101208T060000Z
DTEND:20101208T060000Z
X-MICROSOFT-CDO-ALLDAYEVENT:FALSE
SUMMARY:Pre-Holiday Before Hours Breakfast Networking Event
DESCRIPTION:Start your day off networking and enjoy a continental breakfast. Enter to win a raffle for the Holidays and bring can goods for the Aurora Area Interfaith Food Pantry.
X-ALT-DESC;FMTTYPE=text/html:Start your day off networking and enjoy a continental breakfast. Enter to win a raffle for the Holidays and bring can goods for the Aurora Area Interfaith Food Pantry.
LOCATION:Alden Gardens of Waterford
UID:e.1902.105
SEQUENCE:3
DTSTAMP:20260420T021635Z
URL:https://business.bataviachamber.org/events/details/pre-holiday-before-hours-breakfast-networking-event-12-08-2010-105
END:VEVENT

END:VCALENDAR
