BEGIN:VCALENDAR
VERSION:2.0
PRODID:-//ChamberMaster//Event Calendar 2.0//EN
METHOD:PUBLISH
X-PUBLISHED-TTL:P3D
REFRESH-INTERVAL:P3D
CALSCALE:GREGORIAN
BEGIN:VEVENT
DTSTART:20180521T220000Z
DTEND:20180522T010000Z
X-MICROSOFT-CDO-ALLDAYEVENT:FALSE
SUMMARY:Portillo’s for Good – Anderson Animal Shelter
DESCRIPTION:20% of all the proceeds will go to and benefit Anderson Animal Shelter. Be sure to mention Anderson Animal Shelter to your first order taker.
X-ALT-DESC;FMTTYPE=text/html:<span style="font-size:10.0pt">20% of all the proceeds will go to and benefit Anderson Animal Shelter. Be sure to mention Anderson Animal Shelter to your first order taker.</span><br />\n<br />\n&nbsp\;
LOCATION:Portillo's 1020 S. Randall Rd. Elgin\, IL 60123
UID:e.1902.8979
SEQUENCE:3
DTSTAMP:20260424T144622Z
URL:https://business.bataviachamber.org/events/details/portillo-s-for-good-anderson-animal-shelter-8979
END:VEVENT

END:VCALENDAR
