BEGIN:VCALENDAR
VERSION:2.0
PRODID:-//ChamberMaster//Event Calendar 2.0//EN
METHOD:PUBLISH
X-PUBLISHED-TTL:P3D
REFRESH-INTERVAL:P3D
CALSCALE:GREGORIAN
BEGIN:VEVENT
DTSTART:20100414T050000Z
DTEND:20100414T050000Z
X-MICROSOFT-CDO-ALLDAYEVENT:FALSE
SUMMARY:Pork Chop & Chicken BBQ & Basket Raffle
DESCRIPTION:Are you wondering about dinner plans on Wednesday\, April 14? Join Fox Valley Special Recreation Association (FVSRA) and friends for an evening of delicious food and great prizes at the annual Pork Chop & Chicken BBQ & Basket Raffle fundraiser.\n\n How about your vacation plans? All you have to do isbuy a raffle ticket for a chance to win one of the great trips: a week in Florida\, a family getawayto Timber Ridge Lodge in Lake Geneva\, or a weekend in Door County. \n\nAre you a high tech junkie?Choose from three great baskets: a 32 GB I-pod touch\, a 32’ HD TV or a personal computer. \n\nPlease visit www.fvsra.org/events for a complete listing of baskets and more information about theevent. \n\nWith a purchase of a raffle and meal ticket you will be helping FVSRA to improve the programs we offer. Thank you for your generous support of our efforts to enrich the lives of individuals with disabilities.\n\nPlease stop by or call our office to purchase tickets. \n\n2121 W. Indian Trail\nAurora\, IL  60506\n(630) 907-1114\n\nRaffle Tickets\n1/$5\, 3/$10\, 10/$25\, 25/$50\n\nLarge Meal\n$9 presale/$10 at the door\n2 pork chops or \n1/2 chicken or \ncombo (1 pork chop & 1/4 chicken)\n\nSmall Meal \n$8 presale/$9 at the door\n1 pork chop or \n1/4 chicken\n\nAbout FVSRA \nOur Mission\nThe Fox Valley Special Recreation Association (FVSRA) exists to enrich the lives of people with disabilities. Working collaboratively with member agencies and community partners\, we pledge to put PEOPLE FIRST. \n\nOur Vision\nThe Fox Valley Special Recreation Association (FVSRA) enriches the lives of people with disabilities within the communities it serves. Formed in 1976 as an extension of the Fox Valley\, Geneva\, St. Charles\, Batavia\, Sugar Grove\, Oswegoland Park Districts and the Village of South Elgin Parks and Recreation Department\, we provide a diverse range of year round recreationalopportunities to enable residents with disabilities to experience active\, healthy\, and playful lifestyles.  \n\nFVSRA offers recreational opportunities for EVERYONE of ALL AGES and ALL abilities thatinclude: summer day camp\, community outings\, computer/music/swim lessons\, Special Olympics\, adaptive sports\, trips\, social clubs and MORE! Visit our website at www.fvsra.org or call FVSRA to requesta program guide.
X-ALT-DESC;FMTTYPE=text/html:Are you wondering about dinner plans on Wednesday\, April 14? Join Fox Valley Special Recreation Association (FVSRA) and friends for an evening of delicious food and great prizes at the annual Pork Chop & Chicken BBQ & Basket Raffle fundraiser.\n\n How about your vacation plans? All you have to do isbuy a raffle ticket for a chance to win one of the great trips: a week in Florida\, a family getawayto Timber Ridge Lodge in Lake Geneva\, or a weekend in Door County. \n\nAre you a high tech junkie?Choose from three great baskets: a 32 GB I-pod touch\, a 32’ HD TV or a personal computer. \n\nPlease visit www.fvsra.org/events for a complete listing of baskets and more information about theevent. \n\nWith a purchase of a raffle and meal ticket you will be helping FVSRA to improve the programs we offer. Thank you for your generous support of our efforts to enrich the lives of individuals with disabilities.\n\nPlease stop by or call our office to purchase tickets. \n\n2121 W. Indian Trail\nAurora\, IL  60506\n(630) 907-1114\n\nRaffle Tickets\n1/$5\, 3/$10\, 10/$25\, 25/$50\n\nLarge Meal\n$9 presale/$10 at the door\n2 pork chops or \n1/2 chicken or \ncombo (1 pork chop & 1/4 chicken)\n\nSmall Meal \n$8 presale/$9 at the door\n1 pork chop or \n1/4 chicken\n\nAbout FVSRA \nOur Mission\nThe Fox Valley Special Recreation Association (FVSRA) exists to enrich the lives of people with disabilities. Working collaboratively with member agencies and community partners\, we pledge to put PEOPLE FIRST. \n\nOur Vision\nThe Fox Valley Special Recreation Association (FVSRA) enriches the lives of people with disabilities within the communities it serves. Formed in 1976 as an extension of the Fox Valley\, Geneva\, St. Charles\, Batavia\, Sugar Grove\, Oswegoland Park Districts and the Village of South Elgin Parks and Recreation Department\, we provide a diverse range of year round recreationalopportunities to enable residents with disabilities to experience active\, healthy\, and playful lifestyles.  \n\nFVSRA offers recreational opportunities for EVERYONE of ALL AGES and ALL abilities thatinclude: summer day camp\, community outings\, computer/music/swim lessons\, Special Olympics\, adaptive sports\, trips\, social clubs and MORE! Visit our website at www.fvsra.org or call FVSRA to requesta program guide. \n
LOCATION:Prisco Community Center
UID:e.1902.1151
SEQUENCE:3
DTSTAMP:20260420T162249Z
URL:https://business.bataviachamber.org/events/details/pork-chop-chicken-bbq-basket-raffle-04-14-2010-1151
END:VEVENT

END:VCALENDAR
