BEGIN:VCALENDAR
VERSION:2.0
PRODID:-//ChamberMaster//Event Calendar 2.0//EN
METHOD:PUBLISH
X-PUBLISHED-TTL:P3D
REFRESH-INTERVAL:P3D
CALSCALE:GREGORIAN
BEGIN:VEVENT
DTSTART:20110716T050000Z
DTEND:20110716T050000Z
X-MICROSOFT-CDO-ALLDAYEVENT:FALSE
SUMMARY:Poker Run Benefit
DESCRIPTION:Those with motorcycles will enjoy a ride through the Fox Valley. Then\, bBiker or not--everyone endsup at Real Time Sports in St. Charles. where there will be live music from two great bands "BACK COUNTRY ROADS" and" JUNK CHANGE".a bags tourney\, raffles\, door prizes\, and separate prizes for the poker run and bags tourney.
X-ALT-DESC;FMTTYPE=text/html:Those with motorcycles will enjoy a ride through the Fox Valley. Then\, bBiker or not--everyone endsup at Real Time Sports in St. Charles. where there will be live music from two great bands "BACK COUNTRY ROADS" and" JUNK CHANGE".a bags tourney\, raffles\, door prizes\, and separate prizes for the poker run and bags tourney.
LOCATION:Orchard Auto Detail
UID:e.1902.282
SEQUENCE:3
DTSTAMP:20260419T132302Z
URL:https://business.bataviachamber.org/events/details/poker-run-benefit-07-16-2011-282
END:VEVENT

END:VCALENDAR
