BEGIN:VCALENDAR
VERSION:2.0
PRODID:-//ChamberMaster//Event Calendar 2.0//EN
METHOD:PUBLISH
X-PUBLISHED-TTL:P3D
REFRESH-INTERVAL:P3D
CALSCALE:GREGORIAN
BEGIN:VEVENT
DTSTART:20091005T050000Z
DTEND:20091101T050000Z
X-MICROSOFT-CDO-ALLDAYEVENT:FALSE
SUMMARY:Poinsettia Sale
DESCRIPTION:Now is the time to start planning your Holiday Decorations - and by doing so\, you can support TriCity Family Services with this unique fundraising opportunity.\n\nChoose your color of red\, pink\, whiteor marble poinsettias.  Plants come in a 6" pot and are 15" high\, 15" wide and come with a decorative foil wrapper. Poinsettias are $15 each and will be available the week of November 30th.  For orders of 10 plants or more we offer free delivery to your home or business.\n\nAll proceeds benefit TriCity Family Services\, or local leader in community-based counseling and supportive services for those in need. \n\nOrders must be received by November 1\, 2009.  Please call the agency to order\, at (630) 232-1070\, or place your order on our secure website at www.tricityfamilyservices.org.
X-ALT-DESC;FMTTYPE=text/html:Now is the time to start planning your Holiday Decorations - and by doing so\, you can support TriCity Family Services with this unique fundraising opportunity.\n\nChoose your color of red\, pink\, whiteor marble poinsettias.  Plants come in a 6" pot and are 15" high\, 15" wide and come with a decorative foil wrapper. Poinsettias are $15 each and will be available the week of November 30th.  For orders of 10 plants or more we offer free delivery to your home or business.\n\nAll proceeds benefit TriCity Family Services\, or local leader in community-based counseling and supportive services for those in need. \n\nOrders must be received by November 1\, 2009.  Please call the agency to order\, at (630) 232-1070\, or place your order on our secure website at www.tricityfamilyservices.org.
LOCATION:TriCity Family Services
UID:e.1902.1049
SEQUENCE:3
DTSTAMP:20260420T232056Z
URL:https://business.bataviachamber.org/events/details/poinsettia-sale-10-05-2009-1049
END:VEVENT

END:VCALENDAR
