BEGIN:VCALENDAR
VERSION:2.0
PRODID:-//ChamberMaster//Event Calendar 2.0//EN
METHOD:PUBLISH
X-PUBLISHED-TTL:P3D
REFRESH-INTERVAL:P3D
CALSCALE:GREGORIAN
BEGIN:VEVENT
DTSTART:20091107T170000Z
DTEND:20091107T180000Z
X-MICROSOFT-CDO-ALLDAYEVENT:FALSE
SUMMARY:Play N Trade Video Games Ribbon Cutting
DESCRIPTION:Join the festivities as we welcome the newest video game store--Play N Trade--to Batavia. There will be give-a-ways and food all weekend long! Have your picture taken with Mario\, Sonic and a Storm Trooper! There will be a Chamber Wii Bowling Tournament at 10:30--sign up for that separately.Mayor Schielke will cut their ribbon at 11:00 a.m. Maybe we can get a picture of him with Mario??
X-ALT-DESC;FMTTYPE=text/html:<P align=left>Join the festivities as we welcome&nbsp\;the newest video game&nbsp\;store--Play&nbsp\;N Trade--to Batavia.&nbsp\;There will be give-a-ways and food all weekend long! Have your picture taken with Mario\, Sonic and a Storm Trooper! </P><P align=left>There will be a Chamber Wii Bowling Tournament at 10:30--sign up for that separately.</P><P align=left>Mayor Schielke will cut their ribbon at 11:00 a.m. Maybe we can get a picture of him with Mario??</P>
LOCATION:Play N Trade
UID:e.1902.1732
SEQUENCE:3
DTSTAMP:20260420T232238Z
URL:https://business.bataviachamber.org/events/details/play-n-trade-video-games-ribbon-cutting-11-07-2009-1732
END:VEVENT

END:VCALENDAR
