BEGIN:VCALENDAR
VERSION:2.0
PRODID:-//ChamberMaster//Event Calendar 2.0//EN
METHOD:PUBLISH
X-PUBLISHED-TTL:P3D
REFRESH-INTERVAL:P3D
CALSCALE:GREGORIAN
BEGIN:VEVENT
DTSTART:20110507T050000Z
DTEND:20110507T050000Z
X-MICROSOFT-CDO-ALLDAYEVENT:FALSE
SUMMARY:Plant Sale
DESCRIPTION:Native wildflowers\, perennials\, ferns\, hostas\, prairie plants\, grasses and many unusual varieties not often found at big flower markets will be available\, most of which are dug from club members own gardens. Expert gardeners will be available to offer advice and answer questions about plants. \n\nThis event and the bi-annual garden walk provide funds towards the club’s commitment to maintain the Batavia Wildflower Sanctuary and other projects\, including local college scholarships
X-ALT-DESC;FMTTYPE=text/html:Native wildflowers\, perennials\, ferns\, hostas\, prairie plants\, grasses and many unusual varieties not often found at big flower markets will be available\, most of which are dug from club members own gardens. Expert gardeners will be available to offer advice and answer questions about plants. \n\nThis event and the bi-annual garden walk provide funds towards the club’s commitment to maintain the Batavia Wildflower Sanctuary and other projects\, including local college scholarships\n
LOCATION:Bethany Lutheran Church
UID:e.1902.205
SEQUENCE:3
DTSTAMP:20260419T164426Z
URL:https://business.bataviachamber.org/events/details/plant-sale-05-07-2011-205
END:VEVENT

END:VCALENDAR
