BEGIN:VCALENDAR
VERSION:2.0
PRODID:-//ChamberMaster//Event Calendar 2.0//EN
METHOD:PUBLISH
X-PUBLISHED-TTL:P3D
REFRESH-INTERVAL:P3D
CALSCALE:GREGORIAN
BEGIN:VEVENT
DTSTART:20110110T060000Z
DTEND:20110110T060000Z
X-MICROSOFT-CDO-ALLDAYEVENT:FALSE
SUMMARY:Parenting Difficult Adolescents
DESCRIPTION:Attention parents of adolescent teens.  Join TriCity Family Services for a Parent Support   however\, fee waivers are available based on need. Call TriCity Family Services to register at 630-232-1070.
X-ALT-DESC;FMTTYPE=text/html:Attention parents of adolescent teens.  Join TriCity Family Services for a Parent Support & Education Series presentation.  \n\n"Parenting Difficult Adolescents" will be presented in two parts on Monday\, January 10\, 2011 from 7:30 to 9:00 PM and Monday\, January 17\, 2011 from 7:30 to 9:00 PM.  The presentation will be at the TriCity Family Services offices\, located at 1120 Randall Ct. Geneva\, IL 60134.  \n\nSenior Clinician\, Greg Watson\, LCSW\, LMFT\, ACSW and the clinical interns of TriCity FamilyServices will present this topic and address the following questions:  Is there such a thing as normal adolescence?\, How do I continue to connect with my teen when s/he won’t talk to me about important issues and concerns?\, How do I maintain a positive relationship with my teen when I have to standfirm in the face of manipulation and testing?\, and What will the climate look like in my home during these difficult adolescent years?.\n\nStart 2011 with the best gift of all: an improved relationship with your teenager.\n\nAdvance registration is preferred.  Entrance fee is $10 per attendee\; however\, fee waivers are available based on need. Call TriCity Family Services to register at 630-232-1070.  \n
LOCATION:TriCity Family Services
UID:e.1902.109
SEQUENCE:3
DTSTAMP:20260420T002907Z
URL:https://business.bataviachamber.org/events/details/parenting-difficult-adolescents-01-10-2011-109
END:VEVENT

END:VCALENDAR
