BEGIN:VCALENDAR
VERSION:2.0
PRODID:-//ChamberMaster//Event Calendar 2.0//EN
METHOD:PUBLISH
X-PUBLISHED-TTL:P3D
REFRESH-INTERVAL:P3D
CALSCALE:GREGORIAN
BEGIN:VEVENT
DTSTART:20091124T060000Z
DTEND:20091124T060000Z
X-MICROSOFT-CDO-ALLDAYEVENT:FALSE
SUMMARY:Parent Support and Education Series
DESCRIPTION:Presented by Michelle J. Clark\, M.S.Ed.\, NCC\, LCPC\n\nThis presentation will cover the following points:\n\nDiscuss changes that you have made in responding to your children's sibling rivalry & problem solve how to handle the remaining sibling conflicts within your home\n\nLearn 5 tips for communicating with your children to help them reduce their rivalry\n\nLearn 5 tips for encouraging cooperation among your children \n\nThe fee is $5 for this presentation.  Fee reductions are available based on need.  Space is limited\, so please register soon!  Call TriCity Family Services at (630)232-1070 to register.\n\n*After registering\, if you would like to submit a question to be addressed in the presentation\, please leave a voice mail for Michelle Clark at ext. 336.
X-ALT-DESC;FMTTYPE=text/html:Presented by Michelle J. Clark\, M.S.Ed.\, NCC\, LCPC\n\nThis presentation will cover the following points:\n\nDiscuss changes that you have made in responding to your children's sibling rivalry & problem solve how to handle the remaining sibling conflicts within your home\n\nLearn 5 tips for communicating with your children to help them reduce their rivalry\n\nLearn 5 tips for encouraging cooperation among your children \n\nThe fee is $5 for this presentation.  Fee reductions are available based on need.  Space is limited\, so please register soon!  Call TriCity Family Services at (630)232-1070 to register.\n\n*After registering\, if you would like to submit a question to be addressed in the presentation\, please leave a voice mail for Michelle Clark at ext. 336.
LOCATION:TriCity Family Services
UID:e.1902.1044
SEQUENCE:3
DTSTAMP:20260424T192823Z
URL:https://business.bataviachamber.org/events/details/parent-support-and-education-series-11-24-2009-1044
END:VEVENT

END:VCALENDAR
