BEGIN:VCALENDAR
VERSION:2.0
PRODID:-//ChamberMaster//Event Calendar 2.0//EN
METHOD:PUBLISH
X-PUBLISHED-TTL:P3D
REFRESH-INTERVAL:P3D
CALSCALE:GREGORIAN
BEGIN:VEVENT
DTSTART:20091112T060000Z
DTEND:20091112T060000Z
X-MICROSOFT-CDO-ALLDAYEVENT:FALSE
SUMMARY:Parent Support and Education Series
DESCRIPTION:Does your child function better at school than at home?\nLearn what schools do to address the following important areas for students on the Autism Spectrum:\n      Behavior\n      Routines\n      Social Skills\n      Sensory Challenges\n      Communication\n      Restricted Interests \n\nPresented by Melissa Sofia\, LCSW.  Melissa is a part-time clinician at TriCity Family Services and a school social worker.  She is uniquely qualified to speak to how schools address issues of children on the autism spectrum and provide tools and tips that parents can use at home.\nThe fee is $5 for this presentation.  Fee reductions are available based on need.  Space is limited\, so please register soon!  Call TriCity Family Services at (630)232-1070 to register.\n\n*After registering\, if you would like tosubmit a question to be addressed in the presentation\, please leave a voice mail for Melissa Sofiaat ext. 335.
X-ALT-DESC;FMTTYPE=text/html:Does your child function better at school than at home?\nLearn what schools do to address the following important areas for students on the Autism Spectrum:\n      Behavior\n      Routines\n      Social Skills\n      Sensory Challenges\n      Communication\n      Restricted Interests \n\nPresented by Melissa Sofia\, LCSW.  Melissa is a part-time clinician at TriCity Family Services and a school social worker.  She is uniquely qualified to speak to how schools address issues of children on the autism spectrum and provide tools and tips that parents can use at home.\nThe fee is $5 for this presentation.  Fee reductions are available based on need.  Space is limited\, so please register soon!  Call TriCity Family Services at (630)232-1070 to register.\n\n*After registering\, if you would like tosubmit a question to be addressed in the presentation\, please leave a voice mail for Melissa Sofiaat ext. 335.
LOCATION:TriCity Family Services
UID:e.1902.1043
SEQUENCE:3
DTSTAMP:20260424T192824Z
URL:https://business.bataviachamber.org/events/details/parent-support-and-education-series-11-12-2009-1043
END:VEVENT

END:VCALENDAR
