BEGIN:VCALENDAR
VERSION:2.0
PRODID:-//ChamberMaster//Event Calendar 2.0//EN
METHOD:PUBLISH
X-PUBLISHED-TTL:P3D
REFRESH-INTERVAL:P3D
CALSCALE:GREGORIAN
BEGIN:VEVENT
DTSTART:20091027T050000Z
DTEND:20091027T050000Z
X-MICROSOFT-CDO-ALLDAYEVENT:FALSE
SUMMARY:Parent Support and Education Series
DESCRIPTION:Presented by Michelle J. Clark\, M.S. Ed.\, LCPC\, NCC\n\nThis presentation will cover the following points:\n\nHow to respond to 3 intensity levels of sibling conflict\nAdvice to help children stop being teased by their siblings\nProblem solve about your children's sibling conflicts\nModel anger management & decision making for your children \n\nThe fee is $5 for this presentation.  Fee reductions are available based on need.  Space is limited\, so please register soon!  Call TriCity Family Services at (630)232-1070 to register.\n\n*After registering\, if you would like to submit a question to beaddressed in the presentation\, please leave a voice mail for Michelle Clark at ext. 336.\n\nOne parent's comment about this presentation: "I attended Michelle's Sibling Rivalry Session lastnight. It think it was phenomenal.  What a great opportunity for parents to learn new ways to deal with the issue. It was also great to chat with some of the parents afterwards and realize that many of us are experiencing similar things. Thank you for providing this opportunity."
X-ALT-DESC;FMTTYPE=text/html:Presented by Michelle J. Clark\, M.S. Ed.\, LCPC\, NCC\n\nThis presentation will cover the following points:\n\nHow to respond to 3 intensity levels of sibling conflict\nAdvice to help children stop being teased by their siblings\nProblem solve about your children's sibling conflicts\nModel anger management & decision making for your children \n\nThe fee is $5 for this presentation.  Fee reductions are available based on need.  Space is limited\, so please register soon!  Call TriCity Family Services at (630)232-1070 to register.\n\n*After registering\, if you would like to submit a question to beaddressed in the presentation\, please leave a voice mail for Michelle Clark at ext. 336.\n\nOne parent's comment about this presentation: "I attended Michelle's Sibling Rivalry Session lastnight. It think it was phenomenal.  What a great opportunity for parents to learn new ways to deal with the issue. It was also great to chat with some of the parents afterwards and realize that many of us are experiencing similar things. Thank you for providing this opportunity."
LOCATION:TriCity Family Services
UID:e.1902.1042
SEQUENCE:3
DTSTAMP:20260421T010940Z
URL:https://business.bataviachamber.org/events/details/parent-support-and-education-series-10-27-2009-1042
END:VEVENT

END:VCALENDAR
