BEGIN:VCALENDAR
VERSION:2.0
PRODID:-//ChamberMaster//Event Calendar 2.0//EN
METHOD:PUBLISH
X-PUBLISHED-TTL:P3D
REFRESH-INTERVAL:P3D
CALSCALE:GREGORIAN
BEGIN:VEVENT
DTSTART:20110131T060000Z
DTEND:20110213T060000Z
X-MICROSOFT-CDO-ALLDAYEVENT:FALSE
SUMMARY:Panera Bread Make-A-Wish Fundraiser
DESCRIPTION:Stop into a Panera Bread® bakery-cafe during this season of love to share the sweetest gesture: a freshly baked treat. For a limited time only\, from January 31 until February 13\, participating PaneraBread® bakery-cafes will donate 10 cents for every Valentine Cookie sold to Make-A-Wish.
X-ALT-DESC;FMTTYPE=text/html:Stop into a Panera Bread® bakery-cafe during this season of love to share the sweetest gesture: a freshly baked treat. For a limited time only\, from January 31 until February 13\, participating PaneraBread® bakery-cafes will donate 10 cents for every Valentine Cookie sold to Make-A-Wish.
LOCATION:Panera Bread Batavia
UID:e.1902.141
SEQUENCE:3
DTSTAMP:20260419T224144Z
URL:https://business.bataviachamber.org/events/details/panera-bread-make-a-wish-fundraiser-01-31-2011-141
END:VEVENT

END:VCALENDAR
