BEGIN:VCALENDAR
VERSION:2.0
PRODID:-//ChamberMaster//Event Calendar 2.0//EN
METHOD:PUBLISH
X-PUBLISHED-TTL:P3D
REFRESH-INTERVAL:P3D
CALSCALE:GREGORIAN
BEGIN:VEVENT
DTSTART:20101206T060000Z
DTEND:20101219T060000Z
X-MICROSOFT-CDO-ALLDAYEVENT:FALSE
SUMMARY:Panera Bread Gingerbread Man Cookie Fundraiser for Make-A-Wi
DESCRIPTION:From December 6-19\, participating Panera Bread bakery-cafes will donate 20 cents for every Gingerbread Man Cookie sold to Make-A-Wish.
X-ALT-DESC;FMTTYPE=text/html:From December 6-19\, participating Panera Bread bakery-cafes will donate 20 cents for every Gingerbread Man Cookie sold to Make-A-Wish.
LOCATION:Panera Bread
UID:e.1902.108
SEQUENCE:3
DTSTAMP:20260420T004615Z
URL:https://business.bataviachamber.org/events/details/panera-bread-gingerbread-man-cookie-fundraiser-for-make-a-wi-12-06-2010-108
END:VEVENT

END:VCALENDAR
