BEGIN:VCALENDAR
VERSION:2.0
PRODID:-//ChamberMaster//Event Calendar 2.0//EN
METHOD:PUBLISH
X-PUBLISHED-TTL:P3D
REFRESH-INTERVAL:P3D
CALSCALE:GREGORIAN
BEGIN:VEVENT
DTSTART:20101119T060000Z
DTEND:20101123T060000Z
X-MICROSOFT-CDO-ALLDAYEVENT:FALSE
SUMMARY:Panera Bread Batavia Food Drive
DESCRIPTION:Let's make a difference in the community we live in. Drop off some non-perishable items on November19-23 at Panera Bread in Batavia. The food drive benefits the Batavia Interfaith Food Pantry.\n\nItems Needed:\n•Cereal Boxes\n•Liquid Detergent\n•Fruit Juice\n•Spaghetti Sauce (Jars)\n•Pasta\n•Peanut Butter\n•Crackers\n•Sugar\n•Canned Fruit\n•Paper Towels\n•Gluten Free Foods\n•Sugar Free Foods\n•Bar Soaps\n•Baby Food\n•Toothbrush/Paste\n•Shampoo\n•Flour\n•Cooking Oil
X-ALT-DESC;FMTTYPE=text/html:Let's make a difference in the community we live in. Drop off some non-perishable items on November19-23 at Panera Bread in Batavia. The food drive benefits the Batavia Interfaith Food Pantry.\n\nItems Needed:\n•Cereal Boxes\n•Liquid Detergent\n•Fruit Juice\n•Spaghetti Sauce (Jars)\n•Pasta\n•Peanut Butter\n•Crackers\n•Sugar\n•Canned Fruit\n•Paper Towels\n•Gluten Free Foods\n•Sugar Free Foods\n•Bar Soaps\n•Baby Food\n•Toothbrush/Paste\n•Shampoo\n•Flour\n•Cooking Oil\n\n
LOCATION:Panera Bread Batavia
UID:e.1902.97
SEQUENCE:3
DTSTAMP:20260420T023955Z
URL:https://business.bataviachamber.org/events/details/panera-bread-batavia-food-drive-11-19-2010-97
END:VEVENT

END:VCALENDAR
