BEGIN:VCALENDAR
VERSION:2.0
PRODID:-//ChamberMaster//Event Calendar 2.0//EN
METHOD:PUBLISH
X-PUBLISHED-TTL:P3D
REFRESH-INTERVAL:P3D
CALSCALE:GREGORIAN
BEGIN:VEVENT
DTSTART:20090206T060000Z
DTEND:20090206T060000Z
X-MICROSOFT-CDO-ALLDAYEVENT:FALSE
SUMMARY:Pandora Trunk Show
DESCRIPTION:Free Pandora Keychain with each purchase of $100 or more!\n\nBe one of the first to see the entire new spring bead collection from Pandora!\n\nWe need your opinion...\nWe do our best to include our customers in our decisions about new products and we're looking for your thoughts about the Pandora Match Line. Our Pandora representative will be on hand with the entire Pandora Match Collection duringthe Pandora Trunk Show and we'd like your help in deciding if it's something we should carry at K.Hollis Jewelers. \n\nThe Pandora Match Line is a collection of earrings\, rings and necklaces that match your Pandora beads.
X-ALT-DESC;FMTTYPE=text/html:Free Pandora Keychain with each purchase of $100 or more!\n\nBe one of the first to see the entire new spring bead collection from Pandora!\n\nWe need your opinion...\nWe do our best to include our customers in our decisions about new products and we're looking for your thoughts about the Pandora Match Line. Our Pandora representative will be on hand with the entire Pandora Match Collection duringthe Pandora Trunk Show and we'd like your help in deciding if it's something we should carry at K.Hollis Jewelers. \n\nThe Pandora Match Line is a collection of earrings\, rings and necklaces that match your Pandora beads.\n
LOCATION:K.Hollis Jewelers
UID:e.1902.826
SEQUENCE:3
DTSTAMP:20260421T161732Z
URL:https://business.bataviachamber.org/events/details/pandora-trunk-show-02-06-2009-826
END:VEVENT

END:VCALENDAR
