BEGIN:VCALENDAR
VERSION:2.0
PRODID:-//ChamberMaster//Event Calendar 2.0//EN
METHOD:PUBLISH
X-PUBLISHED-TTL:P3D
REFRESH-INTERVAL:P3D
CALSCALE:GREGORIAN
BEGIN:VEVENT
DTSTART:20091017T050000Z
DTEND:20091017T050000Z
X-MICROSOFT-CDO-ALLDAYEVENT:FALSE
SUMMARY:Pandora Tea Party
DESCRIPTION:Our Pandora Representative\, Kelli\, will be on hand to show you everything that's new... new charms\,new leather braclets\, wooden charms\, and the New Pandora Match Collection.\n\nDon't miss this opportunity to be one of the first to see what's new while enjoying tea and cookies while you shop.\n\nFree Susan G. Komen for the Cure Pink Thermal Market Tote Bag with a single Pandora purchase of $150 or more while supplies last.
X-ALT-DESC;FMTTYPE=text/html:Our Pandora Representative\, Kelli\, will be on hand to show you everything that's new... new charms\,new leather braclets\, wooden charms\, and the New Pandora Match Collection.\n\nDon't miss this opportunity to be one of the first to see what's new while enjoying tea and cookies while you shop.\n\nFree Susan G. Komen for the Cure Pink Thermal Market Tote Bag with a single Pandora purchase of $150 or more while supplies last.
LOCATION:K.Hollis Jewelers
UID:e.1902.1057
SEQUENCE:3
DTSTAMP:20260421T011006Z
URL:https://business.bataviachamber.org/events/details/pandora-tea-party-10-17-2009-1057
END:VEVENT

END:VCALENDAR
