BEGIN:VCALENDAR
VERSION:2.0
PRODID:-//ChamberMaster//Event Calendar 2.0//EN
METHOD:PUBLISH
X-PUBLISHED-TTL:P3D
REFRESH-INTERVAL:P3D
CALSCALE:GREGORIAN
BEGIN:VEVENT
DTSTART:20090912T050000Z
DTEND:20090912T050000Z
X-MICROSOFT-CDO-ALLDAYEVENT:FALSE
SUMMARY:Pandora Jewelry Trunk Show
DESCRIPTION:Free Pandora Lobster Bracelet ($35.00 value) with $150 purchase or you can upgrade to Pandora claspbracelet for only $15.00.
X-ALT-DESC;FMTTYPE=text/html:Free Pandora Lobster Bracelet ($35.00 value) with $150 purchase or you can upgrade to Pandora claspbracelet for only $15.00.
LOCATION:K.Hollis Jewelers
UID:e.1902.993
SEQUENCE:3
DTSTAMP:20260421T031625Z
URL:https://business.bataviachamber.org/events/details/pandora-jewelry-trunk-show-09-12-2009-993
END:VEVENT

END:VCALENDAR
