BEGIN:VCALENDAR
VERSION:2.0
PRODID:-//ChamberMaster//Event Calendar 2.0//EN
METHOD:PUBLISH
X-PUBLISHED-TTL:P3D
REFRESH-INTERVAL:P3D
CALSCALE:GREGORIAN
BEGIN:VEVENT
DTSTART:20081010T230000Z
DTEND:20081011T030000Z
X-MICROSOFT-CDO-ALLDAYEVENT:FALSE
SUMMARY:Oz Comes to the Campana Building
DESCRIPTION:All Dressed Up's Halloween Event!\nFriday\, October 10th\n6 - 10 PM\nOz is open for business\, with special ‘guest appearances’ from\nThe Wicked Witch\, Glinda\, Dorothy\, \nand others!!\nPlus many surprises and prizes!!!\n\nFIRST 500 HALLOWEEN CUSTOMERS\nRECEIVE A CHANCE TO WIN TICKETS FOR TWO TO “WICKED” \nAT THE FORD THEATRE\, CHICAGO
X-ALT-DESC;FMTTYPE=text/html:<DIV style="FONT-FAMILY: Arial" align=center><FONT color=#ff6600><STRONG>All</STRONG> <STRONG>Dressed Up's Halloween Event!<BR>Friday\, October 10th<BR>6 - 10 PM</STRONG></FONT></DIV><DIV style="FONT-FAMILY: Arial" align=center><FONT color=#ff6600><STRONG><BR></STRONG></FONT><FONT color=#000000><STRONG>Oz is open for business\, with special ‘guest appearances’ from<BR>The Wicked Witch\, Glinda\, Dorothy\, <BR>and others!!<BR>Plus many surprises and prizes!!!<BR></STRONG></FONT><FONT color=#ff6600><BR><STRONG>FIRST 500 HALLOWEEN CUSTOMERS<BR>RECEIVE A CHANCE TO WIN TICKETS FOR TWO TO “WICKED” <BR>AT THE FORD THEATRE\, CHICAGO</STRONG></FONT><FONT color=#ff6600><BR></DIV></FONT>
LOCATION:All Dressed Up Costumes
UID:e.1902.1585
SEQUENCE:3
DTSTAMP:20260421T230431Z
URL:https://business.bataviachamber.org/events/details/oz-comes-to-the-campana-building-10-10-2008-1585
END:VEVENT

END:VCALENDAR
