BEGIN:VCALENDAR
VERSION:2.0
PRODID:-//ChamberMaster//Event Calendar 2.0//EN
METHOD:PUBLISH
X-PUBLISHED-TTL:P3D
REFRESH-INTERVAL:P3D
CALSCALE:GREGORIAN
BEGIN:VEVENT
DTSTART:20110210T060000Z
DTEND:20110210T060000Z
X-MICROSOFT-CDO-ALLDAYEVENT:FALSE
SUMMARY:Open Your Heart Volunteer Recruiting Event
DESCRIPTION:Is volunteering in your community one of your New Year’s Resolutions?  Get moving on it before Valentine’s Day by attending the Open Your Heart to TriCity Family Services volunteer recruiting event.\n\nJoin the Friends of TriCity Family Services volunteer auxiliary for information on how you can help area children and families in need through volunteer service at TriCity Family Services. The Open Your Heart event is on Thursday\, February 10\, 2011 from 6:00 to 8:00 PM.  The event is being heldat the TriCity Family Services offices\, located at 1120 Randall Ct. Geneva\, IL 60134.\n\nAll ages and all talents are welcome.  Come one\, come all.  If you have just an hour to time to spare a month\,or plenty of time to give\, the Friends of TriCity Family Services need you.   Contact Miranda Barfuss\, Director of Development\, with questions at 630-232-1070 or mbarfuss@tricityfamilyservices.org.
X-ALT-DESC;FMTTYPE=text/html:Is volunteering in your community one of your New Year’s Resolutions?  Get moving on it before Valentine’s Day by attending the Open Your Heart to TriCity Family Services volunteer recruiting event.\n\nJoin the Friends of TriCity Family Services volunteer auxiliary for information on how you can help area children and families in need through volunteer service at TriCity Family Services. The Open Your Heart event is on Thursday\, February 10\, 2011 from 6:00 to 8:00 PM.  The event is being heldat the TriCity Family Services offices\, located at 1120 Randall Ct. Geneva\, IL 60134.\n\nAll ages and all talents are welcome.  Come one\, come all.  If you have just an hour to time to spare a month\,or plenty of time to give\, the Friends of TriCity Family Services need you.   Contact Miranda Barfuss\, Director of Development\, with questions at 630-232-1070 or mbarfuss@tricityfamilyservices.org.\n
LOCATION:TriCity Family Services
UID:e.1902.143
SEQUENCE:3
DTSTAMP:20260419T212234Z
URL:https://business.bataviachamber.org/events/details/open-your-heart-volunteer-recruiting-event-02-10-2011-143
END:VEVENT

END:VCALENDAR
