BEGIN:VCALENDAR
VERSION:2.0
PRODID:-//ChamberMaster//Event Calendar 2.0//EN
METHOD:PUBLISH
X-PUBLISHED-TTL:P3D
REFRESH-INTERVAL:P3D
CALSCALE:GREGORIAN
BEGIN:VEVENT
DTSTART:20110411T050000Z
DTEND:20110411T050000Z
X-MICROSOFT-CDO-ALLDAYEVENT:FALSE
SUMMARY:Open Mic
DESCRIPTION:Join us every Monday night for Open Mic\, with Joe Bertalmio. \n$1.50 beers
X-ALT-DESC;FMTTYPE=text/html:Join us every Monday night for Open Mic\, with Joe Bertalmio. \n$1.50 beers\n
LOCATION:Fox's on the River
UID:e.1902.213
SEQUENCE:3
DTSTAMP:20260419T180329Z
URL:https://business.bataviachamber.org/events/details/open-mic-04-11-2011-213
END:VEVENT

END:VCALENDAR
