BEGIN:VCALENDAR
VERSION:2.0
PRODID:-//ChamberMaster//Event Calendar 2.0//EN
METHOD:PUBLISH
X-PUBLISHED-TTL:P3D
REFRESH-INTERVAL:P3D
CALSCALE:GREGORIAN
BEGIN:VEVENT
DTSTART:20100321T050000Z
DTEND:20100321T050000Z
X-MICROSOFT-CDO-ALLDAYEVENT:FALSE
SUMMARY:Open House
DESCRIPTION:Raising a happy\, healthy and successful child is a challenge every parent faces.  Come and participate in a workshop by Certified Parent Coach Winnie Moen that will show you practical\, usefull skillsfor raising a successful child without losing your mind in the process?  This workshop is being provided as a community service for all parents\, so please join us!  Refreshments will be served and funchildren's activities will also be held\, so feel free to bring your child!
X-ALT-DESC;FMTTYPE=text/html:Raising a happy\, healthy and successful child is a challenge every parent faces.  Come and participate in a workshop by Certified Parent Coach Winnie Moen that will show you practical\, usefull skillsfor raising a successful child without losing your mind in the process?  This workshop is being provided as a community service for all parents\, so please join us!  Refreshments will be served and funchildren's activities will also be held\, so feel free to bring your child!
LOCATION:Montessori Academy
UID:e.1902.1147
SEQUENCE:3
DTSTAMP:20260424T125044Z
URL:https://business.bataviachamber.org/events/details/open-house-03-21-2010-1147
END:VEVENT

END:VCALENDAR
