BEGIN:VCALENDAR
VERSION:2.0
PRODID:-//ChamberMaster//Event Calendar 2.0//EN
METHOD:PUBLISH
X-PUBLISHED-TTL:P3D
REFRESH-INTERVAL:P3D
CALSCALE:GREGORIAN
BEGIN:VEVENT
DTSTART:20100227T060000Z
DTEND:20100227T060000Z
X-MICROSOFT-CDO-ALLDAYEVENT:FALSE
SUMMARY:Open House
DESCRIPTION:Wine and Cheese Open House\nRibbon Cutting by Mayor Schielke @8:30
X-ALT-DESC;FMTTYPE=text/html:Wine and Cheese Open House\nRibbon Cutting by Mayor Schielke @8:30
LOCATION:Simonetti Studios
UID:e.1902.1128
SEQUENCE:3
DTSTAMP:20260424T143108Z
URL:https://business.bataviachamber.org/events/details/open-house-02-27-2010-1128
END:VEVENT

END:VCALENDAR
