BEGIN:VCALENDAR
VERSION:2.0
PRODID:-//ChamberMaster//Event Calendar 2.0//EN
METHOD:PUBLISH
X-PUBLISHED-TTL:P3D
REFRESH-INTERVAL:P3D
CALSCALE:GREGORIAN
BEGIN:VEVENT
DTSTART:20110122T060000Z
DTEND:20110122T060000Z
X-MICROSOFT-CDO-ALLDAYEVENT:FALSE
SUMMARY:Open House
DESCRIPTION:Montessori Academy in Batavia is hosting an Open House on Saturday\, January 22\, from 10:00 am to 12:00 pm. Learn more about how your child can benefit from the Montessori Method\, tour the classrooms and meet the teachers. Montessori Academy provides education for ages three through eighth grade. Formore information contact 630.879.2586 or info@montessoribatavia.com\, or visit www.montessoribatavia.com. Montessori Academy is located at 595 South River Street\, Batavia\, Illinois 60510 (located on Rt. 25\, 0.5 mile south of Wilson Street).
X-ALT-DESC;FMTTYPE=text/html:Montessori Academy in Batavia is hosting an Open House on Saturday\, January 22\, from 10:00 am to 12:00 pm. Learn more about how your child can benefit from the Montessori Method\, tour the classrooms and meet the teachers. Montessori Academy provides education for ages three through eighth grade. Formore information contact 630.879.2586 or info@montessoribatavia.com\, or visit www.montessoribatavia.com. Montessori Academy is located at 595 South River Street\, Batavia\, Illinois 60510 (located on Rt. 25\, 0.5 mile south of Wilson Street).
LOCATION:Montessori Academy
UID:e.1902.139
SEQUENCE:3
DTSTAMP:20260419T230112Z
URL:https://business.bataviachamber.org/events/details/open-house-01-22-2011-139
END:VEVENT

END:VCALENDAR
