BEGIN:VCALENDAR
VERSION:2.0
PRODID:-//ChamberMaster//Event Calendar 2.0//EN
METHOD:PUBLISH
X-PUBLISHED-TTL:P3D
REFRESH-INTERVAL:P3D
CALSCALE:GREGORIAN
BEGIN:VEVENT
DTSTART:20091024T050000Z
DTEND:20091024T050000Z
X-MICROSOFT-CDO-ALLDAYEVENT:FALSE
SUMMARY:Oktoberfest
DESCRIPTION:Pony Rides\, Petting Zoo\, Free Apple Cider & Carmel Apples\, Scarecrow Coloring Contest. Huge FlooringSale going on. Raffle
X-ALT-DESC;FMTTYPE=text/html:Pony Rides\, Petting Zoo\, Free Apple Cider & Carmel Apples\, Scarecrow Coloring Contest. Huge FlooringSale going on. Raffle
LOCATION:Ashland Flooring Company
UID:e.1902.1047
SEQUENCE:3
DTSTAMP:20260424T211355Z
URL:https://business.bataviachamber.org/events/details/oktoberfest-10-24-2009-1047
END:VEVENT

END:VCALENDAR
