BEGIN:VCALENDAR
VERSION:2.0
PRODID:-//ChamberMaster//Event Calendar 2.0//EN
METHOD:PUBLISH
X-PUBLISHED-TTL:P3D
REFRESH-INTERVAL:P3D
CALSCALE:GREGORIAN
BEGIN:VEVENT
DTSTART:20090926T050000Z
DTEND:20090926T050000Z
X-MICROSOFT-CDO-ALLDAYEVENT:FALSE
SUMMARY:Oktoberfest
DESCRIPTION:A fun event for children of all ages includes games for children and adults\, homemade brat and sauerkraut dinner\, worship\, and a sock hop with polka contest.
X-ALT-DESC;FMTTYPE=text/html:A fun event for children of all ages includes games for children and adults\, homemade brat and sauerkraut dinner\, worship\, and a sock hop with polka contest.
LOCATION:Immanuel Lutheran Church and School
UID:e.1902.994
SEQUENCE:3
DTSTAMP:20260424T230246Z
URL:https://business.bataviachamber.org/events/details/oktoberfest-09-26-2009-994
END:VEVENT

END:VCALENDAR
