BEGIN:VCALENDAR
VERSION:2.0
PRODID:-//ChamberMaster//Event Calendar 2.0//EN
METHOD:PUBLISH
X-PUBLISHED-TTL:P3D
REFRESH-INTERVAL:P3D
CALSCALE:GREGORIAN
BEGIN:VEVENT
DTSTART:20201030T230000Z
DTEND:20201031T020000Z
X-MICROSOFT-CDO-ALLDAYEVENT:FALSE
SUMMARY:October Show Send-Off
DESCRIPTION:Join us as we say goodbye to the work of Diane Sanborn & Anke Korioth as their show comes to a close.\n\nDiane is a contemporary American abstract artist. Her work references back to Expressionism and Surrealism\, using symbols\, vibrant colors\, shape and line. Diane has been nationally recognized and shown across the country. Anke's work features vibrant colors\, varied depths and striking lines. Her abstract impressionistic paintings integrate the chaos\, connection to her travels around the world and her European roots. This show can be seen in our Dempsey Family Gallery through November.\n\nDue to new COVID guidelines we will limit the number of people in the gallery to 25 people at a time\, on a first-come-first serve basis and drinks will not be served.
X-ALT-DESC;FMTTYPE=text/html:<p>Join us as we say goodbye to the work of Diane Sanborn &amp\; Anke Korioth as their show comes to a close.</p>\n\n<p>Diane is a contemporary American abstract artist. Her work references back to Expressionism and Surrealism\, using symbols\, vibrant colors\, shape and line. Diane has been nationally recognized and shown across the country. Anke&rsquo\;s work features vibrant colors\, varied depths and striking lines. Her abstract impressionistic paintings integrate the chaos\, connection to her travels around the world and her European roots.&nbsp\;This show can be seen in our Dempsey Family Gallery through November.</p>\n\n<p>Due to new COVID guidelines we will limit the number of people in the gallery to 25 people at a time\, on a first-come-first serve basis and drinks will not be served.</p>\n
LOCATION:Water Street Sudios 160 S. Water Batavia\, IL 60510
UID:e.1902.12693
SEQUENCE:3
DTSTAMP:20260422T094535Z
URL:https://business.bataviachamber.org/events/details/october-show-send-off-12693
END:VEVENT

END:VCALENDAR
