BEGIN:VCALENDAR
VERSION:2.0
PRODID:-//ChamberMaster//Event Calendar 2.0//EN
METHOD:PUBLISH
X-PUBLISHED-TTL:P3D
REFRESH-INTERVAL:P3D
CALSCALE:GREGORIAN
BEGIN:VEVENT
DTSTART:20251113T230000Z
DTEND:20251114T003000Z
X-MICROSOFT-CDO-ALLDAYEVENT:FALSE
SUMMARY:Noetic Math Contest (2nd-5th Grade)
DESCRIPTION:The cost of this math contest is $10 and is open for students that can compete at 2nd\, 3rd\, 4th\, or 5th grade level in math. All students must be signed up by October 23rd.\n\nGrade-level Tailored and Engaging Problems: We design different problems for each grade level\, enabling students to face challenges that align with their skills and allowing them to compete with peers in their age group. For younger students\, we craft our problems to resemble intriguing puzzles\, igniting curiosity and engagement in math.\n\nBroad Recognition: We are proud to offer one of the most comprehensive recognition systems among national contests. The top 10% of students earn National Honor Roll medals\, and the top 50% receive Honorable Mention ribbons. Every team is guaranteed a Team Winner medal for their top scorer.
X-ALT-DESC;FMTTYPE=text/html:<p>The cost of this math contest is $10 and is open for students that can compete at 2nd\, 3rd\, 4th\, or 5th grade level in math. All students must be signed up by October 23rd.</p>\n\n<p><strong>Grade-level Tailored and Engaging Problems:</strong> We design different problems for each grade level\, enabling students to face challenges that align with their skills and allowing them to compete with peers in their age group. For younger students\, we craft our problems to resemble intriguing puzzles\, igniting curiosity and engagement in math.</p>\n\n<p><strong>Broad Recognition:</strong> We are proud to offer one of the most comprehensive recognition systems among national contests. The top 10% of students earn National Honor Roll medals\, and the top 50% receive Honorable Mention ribbons. Every team is guaranteed a Team Winner medal for their top scorer.&nbsp\;</p>\n
LOCATION:Vanguard Gifted Academy
UID:e.1902.29716
SEQUENCE:3
DTSTAMP:20260425T031758Z
URL:https://business.bataviachamber.org/events/details/noetic-math-contest-2nd-5th-grade-29716
END:VEVENT

END:VCALENDAR
