BEGIN:VCALENDAR
VERSION:2.0
PRODID:-//ChamberMaster//Event Calendar 2.0//EN
METHOD:PUBLISH
X-PUBLISHED-TTL:P3D
REFRESH-INTERVAL:P3D
CALSCALE:GREGORIAN
BEGIN:VEVENT
DTSTART:20090715T050000Z
DTEND:20090716T050000Z
X-MICROSOFT-CDO-ALLDAYEVENT:FALSE
SUMMARY:Niche Restaurant Hosts Mary Hunt Duo at Concert Between Cour
DESCRIPTION:
X-ALT-DESC;FMTTYPE=text/html:
LOCATION:
UID:e.1902.971
SEQUENCE:3
DTSTAMP:20260421T070954Z
URL:https://business.bataviachamber.org/events/details/niche-restaurant-hosts-mary-hunt-duo-at-concert-between-cour-07-15-2009-971
END:VEVENT

END:VCALENDAR
