BEGIN:VCALENDAR
VERSION:2.0
PRODID:-//ChamberMaster//Event Calendar 2.0//EN
METHOD:PUBLISH
X-PUBLISHED-TTL:P3D
REFRESH-INTERVAL:P3D
CALSCALE:GREGORIAN
BEGIN:VEVENT
DTSTART:20090820T050000Z
DTEND:20090820T050000Z
X-MICROSOFT-CDO-ALLDAYEVENT:FALSE
SUMMARY:Niche Restaurant Debuts 'A Vine Dining' Experience
DESCRIPTION:Ever wanted to travel to the west coast and taste the exquisite vineyards of Napa\, Oregon or Santa Ynez? Now’s your chance as Geneva’s acclaimed Niche Restaurant brings the best of the west to guestswith ‘A Taste of the West Coast’ on August 20th! \n\nGuests will have the opportunity to experiencethree unique varietal tastings from each of the five featured boutique vineyards\, prepared by Nicheexpert Beverage Director Vince Balistreri. Delicious Niche culinary creations including hors d’oeuvres and small plates to share will transport taste buds and enhance the wine tasting experience! \n\n‘A Taste of the West Coast’ featured vineyards include:\n•  Oregon - Owen Roe Winery\n•  Washington - Charles Smith Winery\n•  Dry Creek Valley – Ridge Winery\n•  Napa – Truchard Winery\n•  Santa Ynez – Palmina Winery\n\nEach of the five stations will include both red and white varietals. Bottlesof boutique wines will also be available to purchase or order.
X-ALT-DESC;FMTTYPE=text/html:Ever wanted to travel to the west coast and taste the exquisite vineyards of Napa\, Oregon or Santa Ynez? Now’s your chance as Geneva’s acclaimed Niche Restaurant brings the best of the west to guestswith ‘A Taste of the West Coast’ on August 20th! \n\nGuests will have the opportunity to experiencethree unique varietal tastings from each of the five featured boutique vineyards\, prepared by Nicheexpert Beverage Director Vince Balistreri. Delicious Niche culinary creations including hors d’oeuvres and small plates to share will transport taste buds and enhance the wine tasting experience! \n\n‘A Taste of the West Coast’ featured vineyards include:\n•  Oregon - Owen Roe Winery\n•  Washington - Charles Smith Winery\n•  Dry Creek Valley – Ridge Winery\n•  Napa – Truchard Winery\n•  Santa Ynez – Palmina Winery\n\nEach of the five stations will include both red and white varietals. Bottlesof boutique wines will also be available to purchase or order.\n
LOCATION:Niche Restaurant
UID:e.1902.982
SEQUENCE:3
DTSTAMP:20260421T051632Z
URL:https://business.bataviachamber.org/events/details/niche-restaurant-debuts-a-vine-dining-experience-08-20-2009-982
END:VEVENT

END:VCALENDAR
