BEGIN:VCALENDAR
VERSION:2.0
PRODID:-//ChamberMaster//Event Calendar 2.0//EN
METHOD:PUBLISH
X-PUBLISHED-TTL:P3D
REFRESH-INTERVAL:P3D
CALSCALE:GREGORIAN
BEGIN:VEVENT
DTSTART:20251129T170000Z
DTEND:20251129T210000Z
X-MICROSOFT-CDO-ALLDAYEVENT:FALSE
SUMMARY:Next Gen Makers Kid’s Craft Fair
DESCRIPTION:Get ready for a marketplace run entirely by kids! Young entrepreneurs ages 5 17 will be showing off their creativity by selling homemade products they've dreamed up and made themselves (sorry no food items). From colorful crafts to unique creations\, you never know what treasures you'll find!\n\nFor Kids Who Want to Sign Up:\n\n$20 reserves your table (all proceeds donated to Anderson Humane)\n\nBring your best ideas\, decorate your table\, and practice being a real entrepreneur!\n\nKids can arrive at 10:15 AM to set up\n\nFor Shoppers:\n\nCome support these amazing young creators\, shop their one-of-a-kind products\, and cheer them on as they run their very own businesses for the day.\n\nEntry to shop is FREE!\n\nDon't miss this fun\, family-friendly event where kids' creativity takes center stage!\n\nPlease register for and reserve your table here: https://www.eventbrite.com/e/next-gen-makers-kids-craft-fair-tickets-1744259500119?utm-campaign=social&utm-content=attendeeshare&utm-medium=discovery&utm-term=listing&utm-source=cp&aff=ebdsshcopyurl
X-ALT-DESC;FMTTYPE=text/html:<p>Get ready for a marketplace run entirely by kids! Young entrepreneurs ages 5&ndash\;17 will be showing off their creativity by selling homemade products they&rsquo\;ve dreamed up and made themselves (sorry&mdash\;no food items). From colorful crafts to unique creations\, you never know what treasures you&rsquo\;ll find!</p>\n\n<p>For Kids Who Want to Sign Up:<br />\n$20 reserves your table&nbsp\;<strong>(all proceeds donated to Anderson Humane)</strong><br />\nBring your best ideas\, decorate your table\, and practice being a real entrepreneur!<br />\nKids can arrive at 10:15 AM to set up</p>\n\n<p>For Shoppers:<br />\nCome support these amazing young creators\, shop their one-of-a-kind products\, and cheer them on as they run their very own businesses for the day.</p>\n\n<p>Entry to shop is FREE!</p>\n\n<p>Don&rsquo\;t miss this fun\, family-friendly event where kids&rsquo\; creativity takes center stage!<br />\nPlease register for and reserve your table here: <a href="https://www.eventbrite.com/e/next-gen-makers-kids-craft-fair-tickets-1744259500119?utm-campaign=social&amp\;utm-content=attendeeshare&amp\;utm-medium=discovery&amp\;utm-term=listing&amp\;utm-source=cp&amp\;aff=ebdsshcopyurl" target="_blank">https://www.eventbrite.com/e/next-gen-makers-kids-craft-fair-tickets-1744259500119?utm-campaign=social&amp\;utm-content=attendeeshare&amp\;utm-medium=discovery&amp\;utm-term=listing&amp\;utm-source=cp&amp\;aff=ebdsshcopyurl</a></p>\n
LOCATION:American Legion Elgin Post 57
UID:e.1902.30395
SEQUENCE:3
DTSTAMP:20260425T031758Z
URL:https://business.bataviachamber.org/events/details/next-gen-makers-kid-s-craft-fair-30395
END:VEVENT

END:VCALENDAR
