BEGIN:VCALENDAR
VERSION:2.0
PRODID:-//ChamberMaster//Event Calendar 2.0//EN
METHOD:PUBLISH
X-PUBLISHED-TTL:P3D
REFRESH-INTERVAL:P3D
CALSCALE:GREGORIAN
BEGIN:VEVENT
DTSTART:20101102T130000Z
DTEND:20101102T143000Z
X-MICROSOFT-CDO-ALLDAYEVENT:FALSE
SUMMARY:Newest Ideas to Integrate the Internet into Your Networking
DESCRIPTION:Join us November 2 to hear \nBrian Basilico of B2b Interactive MarketingWe’ll be at the Holmstad Town Center from 8:00am to 9:30am  Join us for a special presentation by Brian Basilico on the current and future state of social media and how to integrate it into your networking efforts.  Brian is gaining a national reputation for his work in the use of Twitter\, LinkedIn\, Facebook and other means of connecting in the new world of the Internet.
X-ALT-DESC;FMTTYPE=text/html:<DIV style="FONT-FAMILY: Arial" align=center><FONT color=#0000a0>Join us November 2 to hear <BR><STRONG><EM><FONT color=#ff0000 size=4>Brian Basilico of B2b Interactive Marketing</FONT></EM></STRONG></FONT></DIV><DIV style="FONT-FAMILY: Arial" align=center><FONT color=#0000a0><FONT size=2>We’ll be at the Holmstad Town Center from 8:00am to 9:30am</FONT></FONT></DIV><DIV style="FONT-FAMILY: Arial" align=center>&nbsp\;</DIV><DIV style="FONT-FAMILY: Arial" align=center>&nbsp\;</DIV><DIV style="FONT-FAMILY: Arial" align=left><FONT color=#0000a0 size=4>Join us for a special presentation by Brian Basilico on the current and future state of social media and how to integrate it into your networking efforts. </FONT></DIV><DIV style="FONT-FAMILY: Arial" align=left><FONT color=#0000a0 size=4></FONT>&nbsp\;</DIV><DIV style="FONT-FAMILY: Arial" align=left><FONT color=#0000a0 size=4>Brian is gaining a national reputation for his work in the use of Twitter\, LinkedIn\, Facebook and other means of connecting in the new world of the Internet.<BR></FONT></DIV>
LOCATION:The Holmstad
UID:e.1902.1657
SEQUENCE:3
DTSTAMP:20260420T023843Z
URL:https://business.bataviachamber.org/events/details/newest-ideas-to-integrate-the-internet-into-your-networking-11-02-2010-1657
END:VEVENT

END:VCALENDAR
