BEGIN:VCALENDAR
VERSION:2.0
PRODID:-//ChamberMaster//Event Calendar 2.0//EN
METHOD:PUBLISH
X-PUBLISHED-TTL:P3D
REFRESH-INTERVAL:P3D
CALSCALE:GREGORIAN
BEGIN:VEVENT
DTSTART:20080611T130000Z
DTEND:20080611T143000Z
X-MICROSOFT-CDO-ALLDAYEVENT:FALSE
SUMMARY:New Member Breakfast - 08/06/11
DESCRIPTION:
X-ALT-DESC;FMTTYPE=text/html:
LOCATION:Enticing Cuisine
UID:e.1902.1669
SEQUENCE:3
DTSTAMP:20260425T221814Z
URL:https://business.bataviachamber.org/events/details/new-member-breakfast-08-06-11-06-11-2008-1669
END:VEVENT

END:VCALENDAR
